BEGIN:VCALENDAR
VERSION:2.0
PRODID:-//The BoZone - ECPv5.12.0//NONSGML v1.0//EN
CALSCALE:GREGORIAN
METHOD:PUBLISH
X-WR-CALNAME:The BoZone
X-ORIGINAL-URL:https://bozone.com
X-WR-CALDESC:Events for The BoZone
BEGIN:VTIMEZONE
TZID:America/Denver
BEGIN:DAYLIGHT
TZOFFSETFROM:-0700
TZOFFSETTO:-0600
TZNAME:MDT
DTSTART:20260308T090000
END:DAYLIGHT
BEGIN:STANDARD
TZOFFSETFROM:-0600
TZOFFSETTO:-0700
TZNAME:MST
DTSTART:20261101T080000
END:STANDARD
END:VTIMEZONE
BEGIN:VEVENT
DTSTART;TZID=America/Denver:20260123T210000
DTEND;TZID=America/Denver:20260123T210000
DTSTAMP:20260422T152600
CREATED:20251228T161702Z
LAST-MODIFIED:20251228T161702Z
UID:304232-1769202000-1769202000@bozone.com
SUMMARY:Scratchin’ Gravel
DESCRIPTION:Friday\, January 23\, 2026\n9:00 PM  11:00 PM\n\n\nThe Waypoint 50 Ousel Falls RoadBig Sky\, MT\, 59716United States (map)\n\n\n\n\n\n\n\n\n\nScratchin’ Gravel brings their signature take on bluegrass music to the Waypoint Friday\, January 23!
URL:https://bozone.com/event/scratchin-gravel-23/
LOCATION:The Big Sky Waypoint\, 50 Ousel Falls Road\, Big Sky\, MT\, 59716\, United States
CATEGORIES:Music
GEO:45.2600817;-111.3084077
X-APPLE-STRUCTURED-LOCATION;VALUE=URI;X-ADDRESS=The Big Sky Waypoint 50 Ousel Falls Road Big Sky MT 59716 United States;X-APPLE-RADIUS=500;X-TITLE=50 Ousel Falls Road:geo:-111.3084077,45.2600817
END:VEVENT
END:VCALENDAR