BEGIN:VCALENDAR
VERSION:2.0
PRODID:-//The BoZone - ECPv5.12.0//NONSGML v1.0//EN
CALSCALE:GREGORIAN
METHOD:PUBLISH
X-WR-CALNAME:The BoZone
X-ORIGINAL-URL:https://bozone.com
X-WR-CALDESC:Events for The BoZone
BEGIN:VTIMEZONE
TZID:America/Denver
BEGIN:DAYLIGHT
TZOFFSETFROM:-0700
TZOFFSETTO:-0600
TZNAME:MDT
DTSTART:20250309T090000
END:DAYLIGHT
BEGIN:STANDARD
TZOFFSETFROM:-0600
TZOFFSETTO:-0700
TZNAME:MST
DTSTART:20251102T080000
END:STANDARD
END:VTIMEZONE
BEGIN:VEVENT
DTSTART;TZID=America/Denver:20251022T183000
DTEND;TZID=America/Denver:20251022T193000
DTSTAMP:20260420T200202
CREATED:20250918T131130Z
LAST-MODIFIED:20251013T195532Z
UID:297626-1761157800-1761161400@bozone.com
SUMMARY:Science Inquiry Series:  The Energy\, Economy and Climate Nexus
DESCRIPTION:What are the challenges and tools available to reduce climate impact while maintaining a modern economy and a publicly acceptable standard of living? Dr. Lee Spangler\, Director of the Energy Research Institute at MSU\, will discuss the scale of the problem\, the strengths and weaknesses of the energy infrastructure\, and details of MSU research projects in carbon sequestration as a potential partial solution.
URL:https://bozone.com/event/science-inquiry-series-the-energy-economy-and-climate-nexus/
LOCATION:Bozeman Public Library\, 626 East Main Street\, Bozeman\, MT\, 59715\, United States
CATEGORIES:Lectures
GEO:45.6785823;-111.0270991
X-APPLE-STRUCTURED-LOCATION;VALUE=URI;X-ADDRESS=Bozeman Public Library 626 East Main Street Bozeman MT 59715 United States;X-APPLE-RADIUS=500;X-TITLE=626 East Main Street:geo:-111.0270991,45.6785823
END:VEVENT
END:VCALENDAR