BEGIN:VCALENDAR
VERSION:2.0
PRODID:-//The BoZone - ECPv5.12.0//NONSGML v1.0//EN
CALSCALE:GREGORIAN
METHOD:PUBLISH
X-WR-CALNAME:The BoZone
X-ORIGINAL-URL:https://bozone.com
X-WR-CALDESC:Events for The BoZone
BEGIN:VTIMEZONE
TZID:America/Denver
BEGIN:DAYLIGHT
TZOFFSETFROM:-0700
TZOFFSETTO:-0600
TZNAME:MDT
DTSTART:20260308T090000
END:DAYLIGHT
BEGIN:STANDARD
TZOFFSETFROM:-0600
TZOFFSETTO:-0700
TZNAME:MST
DTSTART:20261101T080000
END:STANDARD
END:VTIMEZONE
BEGIN:VEVENT
DTSTART;TZID=America/Denver:20260103T190000
DTEND;TZID=America/Denver:20260103T190000
DTSTAMP:20260421T032320
CREATED:20251227T005506Z
LAST-MODIFIED:20251227T005506Z
UID:303654-1767466800-1767466800@bozone.com
SUMMARY:Sam Hall (TX Country)
DESCRIPTION:From the heart of San Antonio comes Sam Hall\, an upcoming country artist whose talent hits like a shot of Texas lightning. With smooth vocals\, Southern charm\, and stories beyond his years\, he’s quickly making waves across the genre. Be there when Sam Hall takes the stage—you’ll be able to say you saw him before he went big. Saturday from 7-10 at The Jump!
URL:https://bozone.com/event/sam-hall-tx-country/
LOCATION:The Jump\, 75770 Gallatin Rd\, Gallatin Gateway\, MT\, 59730\, United States
CATEGORIES:Music
GEO:45.58333;-111.1969895
X-APPLE-STRUCTURED-LOCATION;VALUE=URI;X-ADDRESS=The Jump 75770 Gallatin Rd Gallatin Gateway MT 59730 United States;X-APPLE-RADIUS=500;X-TITLE=75770 Gallatin Rd:geo:-111.1969895,45.58333
END:VEVENT
END:VCALENDAR