BEGIN:VCALENDAR
VERSION:2.0
PRODID:-//The BoZone - ECPv5.12.0//NONSGML v1.0//EN
CALSCALE:GREGORIAN
METHOD:PUBLISH
X-WR-CALNAME:The BoZone
X-ORIGINAL-URL:https://bozone.com
X-WR-CALDESC:Events for The BoZone
BEGIN:VTIMEZONE
TZID:America/Denver
BEGIN:DAYLIGHT
TZOFFSETFROM:-0700
TZOFFSETTO:-0600
TZNAME:MDT
DTSTART:20250309T090000
END:DAYLIGHT
BEGIN:STANDARD
TZOFFSETFROM:-0600
TZOFFSETTO:-0700
TZNAME:MST
DTSTART:20251102T080000
END:STANDARD
END:VTIMEZONE
BEGIN:VEVENT
DTSTART;TZID=America/Denver:20251004T080000
DTEND;TZID=America/Denver:20251004T080000
DTSTAMP:20260420T111333
CREATED:20250719T005813Z
LAST-MODIFIED:20250719T005813Z
UID:293879-1759564800-1759564800@bozone.com
SUMMARY:Ruff & Tumble Stampede: Big Sky's Kink Con in Missoula
DESCRIPTION:Welcome to the Ruff & Tumble Stampede: Big Sky’s Kink Con! 🐾\nBig Sky’s 2nd Annual KinkCon: Ruff & Tumble returns in Missoula on Saturday\, October 4\, 2025 — and this year’s going to be BIG. \nJoin us for a full day of kink education\, skill-building\, community connection\, and empowerment — whether you’re just starting your journey or have years of experience. Expect hands-on workshops\, discussion panels\, and spaces to learn\, grow\, and celebrate the vibrant kink scene of the Mountain West. \nWe’re proud to partner with The Branch Center at the University of Montana\, and to host a pre-conference intensive on October 3rd with Dr. Ty David Lerman (Mr. Texas Leather) — a AASECT sex therapist and clinical sexologist. \nWe’re also thrilled to welcome International Mr. Leather René Hebert as our closing speaker — a powerful voice in the global kink and leather community. \nThis program meets the requirements of the American Association of Sexuality Educators\, Counselors and Therapists (AASECT) is approved for up to 12 CE credits up on completion of the conference. These CE credits may be applied toward AASECT certification and renewal of certification. Completion of this program does not ensure or guarantee AASECT certification. For further information please contact info@assect.org. \nAlso offering CEUs for Montana Therapists! \nThis event is also offered virtually! \nhttps://www.eventbrite.com/e/ruff-tumble-stampede-big-skys-kink-con-tickets-1380857073679?aff=oddtdtcreator
URL:https://bozone.com/event/ruff-tumble-stampede-big-skys-kink-con-in-missoula/
LOCATION:Virtual Event\, Bozeman\, MT\, 59715\, United States
CATEGORIES:Lectures,Miscellanea
GEO:46.8796822;-110.3625658
END:VEVENT
END:VCALENDAR