BEGIN:VCALENDAR
VERSION:2.0
PRODID:-//The BoZone - ECPv5.12.0//NONSGML v1.0//EN
CALSCALE:GREGORIAN
METHOD:PUBLISH
X-WR-CALNAME:The BoZone
X-ORIGINAL-URL:https://bozone.com
X-WR-CALDESC:Events for The BoZone
BEGIN:VTIMEZONE
TZID:America/Denver
BEGIN:DAYLIGHT
TZOFFSETFROM:-0700
TZOFFSETTO:-0600
TZNAME:MDT
DTSTART:20250309T090000
END:DAYLIGHT
BEGIN:STANDARD
TZOFFSETFROM:-0600
TZOFFSETTO:-0700
TZNAME:MST
DTSTART:20251102T080000
END:STANDARD
END:VTIMEZONE
BEGIN:VEVENT
DTSTART;TZID=America/Denver:20251108T090000
DTEND;TZID=America/Denver:20251108T160000
DTSTAMP:20260421T135158
CREATED:20251015T215139Z
LAST-MODIFIED:20251015T215139Z
UID:300016-1762592400-1762617600@bozone.com
SUMMARY:Resting in Quiet\, Returning to Wonder
DESCRIPTION:Join us on Saturday November 8 from 9 AM to 4 PM with visiting teacher Gina Garlie for a Day of Mindfulness in the Plum Village tradition. During this event\, we will settle into meditation and mindfulness practices that water our seeds of well-being and reawaken us to the wonders of life.\nIn this slowing down during winter\, we can revitalize ourselves and our relationship with the Earth and one another. During our day together\, we will enjoy ways to renew our energy and act with intention and deep gratitude for the gifts before us in this deepening season of darkness.\nPractitioners from all traditions and any level of previous experience are welcome! Please register at bozemandharmacenter.org. Sliding scale from $0-$65\, pay what you can\, no one will be turned away for lack of funds. Bozeman Dharma Center 3810 Valley Commons #6 Bozeman MT 59718. (406) 219-2140.
URL:https://bozone.com/event/resting-in-quiet-returning-to-wonder/
LOCATION:Bozeman Dharma Center\, 1019 E Main\, Bozeman\, MT\, 59715\, United States
CATEGORIES:Classes,Miscellanea
GEO:45.6803554;-111.0229517
X-APPLE-STRUCTURED-LOCATION;VALUE=URI;X-ADDRESS=Bozeman Dharma Center 1019 E Main Bozeman MT 59715 United States;X-APPLE-RADIUS=500;X-TITLE=1019 E Main:geo:-111.0229517,45.6803554
END:VEVENT
END:VCALENDAR