BEGIN:VCALENDAR
VERSION:2.0
PRODID:-//The BoZone - ECPv5.12.0//NONSGML v1.0//EN
CALSCALE:GREGORIAN
METHOD:PUBLISH
X-WR-CALNAME:The BoZone
X-ORIGINAL-URL:https://bozone.com
X-WR-CALDESC:Events for The BoZone
BEGIN:VTIMEZONE
TZID:America/Denver
BEGIN:DAYLIGHT
TZOFFSETFROM:-0700
TZOFFSETTO:-0600
TZNAME:MDT
DTSTART:20250309T090000
END:DAYLIGHT
BEGIN:STANDARD
TZOFFSETFROM:-0600
TZOFFSETTO:-0700
TZNAME:MST
DTSTART:20251102T080000
END:STANDARD
END:VTIMEZONE
BEGIN:VEVENT
DTSTART;TZID=America/Denver:20251109T090000
DTEND;TZID=America/Denver:20251109T090000
DTSTAMP:20260422T041415
CREATED:20251008T045955Z
LAST-MODIFIED:20251008T050027Z
UID:299742-1762678800-1762678800@bozone.com
SUMMARY:Reiki 2 Certification Course
DESCRIPTION:Deepen your Reiki practice with advanced techniques and sacred symbols. In Level 2\, you’ll learn how to send Reiki across distance and time\, support emotional healing\, and strengthen the flow of energy through intention and focus. You’ll receive your Level 2 attunement\, hands-on practice\, and certification.Cost: $120
URL:https://bozone.com/event/reiki-2-certification-course/
LOCATION:St Pauls Lutheran Church – Missoula\, 202 Brooks St\,\, Missoula\, MT\, 59802\, United States
CATEGORIES:Classes
END:VEVENT
END:VCALENDAR