BEGIN:VCALENDAR
VERSION:2.0
PRODID:-//The BoZone - ECPv5.12.0//NONSGML v1.0//EN
CALSCALE:GREGORIAN
METHOD:PUBLISH
X-WR-CALNAME:The BoZone
X-ORIGINAL-URL:https://bozone.com
X-WR-CALDESC:Events for The BoZone
BEGIN:VTIMEZONE
TZID:America/Denver
BEGIN:DAYLIGHT
TZOFFSETFROM:-0700
TZOFFSETTO:-0600
TZNAME:MDT
DTSTART:20260308T090000
END:DAYLIGHT
BEGIN:STANDARD
TZOFFSETFROM:-0600
TZOFFSETTO:-0700
TZNAME:MST
DTSTART:20261101T080000
END:STANDARD
END:VTIMEZONE
BEGIN:VEVENT
DTSTART;TZID=America/Denver:20260614T090000
DTEND;TZID=America/Denver:20260614T090000
DTSTAMP:20260422T114313
CREATED:20260416T013615Z
LAST-MODIFIED:20260416T013615Z
UID:316026-1781427600-1781427600@bozone.com
SUMMARY:Reiki 2 Certification Course
DESCRIPTION:In this advanced course\, you’ll learn powerful Reiki symbols\, how to send distance healing\, and techniques for emotional and mental balance. Includes Reiki 2 attunement\, guided practice\, and certification.Cost: $180
URL:https://bozone.com/event/reiki-2-certification-course-2/
LOCATION:St Pauls Lutheran Church – Missoula\, 202 Brooks St\,\, Missoula\, MT\, 59802\, United States
CATEGORIES:Miscellanea
END:VEVENT
END:VCALENDAR