BEGIN:VCALENDAR
VERSION:2.0
PRODID:-//The BoZone - ECPv5.12.0//NONSGML v1.0//EN
CALSCALE:GREGORIAN
METHOD:PUBLISH
X-WR-CALNAME:The BoZone
X-ORIGINAL-URL:https://bozone.com
X-WR-CALDESC:Events for The BoZone
BEGIN:VTIMEZONE
TZID:America/Denver
BEGIN:DAYLIGHT
TZOFFSETFROM:-0700
TZOFFSETTO:-0600
TZNAME:MDT
DTSTART:20260308T090000
END:DAYLIGHT
BEGIN:STANDARD
TZOFFSETFROM:-0600
TZOFFSETTO:-0700
TZNAME:MST
DTSTART:20261101T080000
END:STANDARD
END:VTIMEZONE
BEGIN:VEVENT
DTSTART;TZID=America/Denver:20260427T141000
DTEND;TZID=America/Denver:20260427T141000
DTSTAMP:20260423T191739
CREATED:20260423T001218Z
LAST-MODIFIED:20260423T001218Z
UID:316232-1777299000-1777299000@bozone.com
SUMMARY:Recreation & Management
DESCRIPTION:Come hear the results of novel research into issues surrounding management and recreation in the Hyalite-Porcupine-Buffalo Horn Wilderness Study Area\, a region of beloved public lands in Bozeman’s backyard. Presentations are made by graduating undergraduate students in the MSU Environmental Science Program. There will be ten presentations about issues including human-wildlife conflict\, water quality\, snow pack\, invasive plants\, and beaver history and potential restoration.\nResearch presentations by the students of the MSU Environmental Science Senior Capstone\n2:10-4:00 pm on Monday\, Apr 27\, in the Community Room at the Bozeman Public Library. Free and open to the public.
URL:https://bozone.com/event/recreation-management/
LOCATION:Bozeman Public Library\, 626 East Main Street\, Bozeman\, MT\, 59715\, United States
CATEGORIES:Lectures,Miscellanea
GEO:45.6785823;-111.0270991
X-APPLE-STRUCTURED-LOCATION;VALUE=URI;X-ADDRESS=Bozeman Public Library 626 East Main Street Bozeman MT 59715 United States;X-APPLE-RADIUS=500;X-TITLE=626 East Main Street:geo:-111.0270991,45.6785823
END:VEVENT
END:VCALENDAR