BEGIN:VCALENDAR
VERSION:2.0
PRODID:-//The BoZone - ECPv5.12.0//NONSGML v1.0//EN
CALSCALE:GREGORIAN
METHOD:PUBLISH
X-WR-CALNAME:The BoZone
X-ORIGINAL-URL:https://bozone.com
X-WR-CALDESC:Events for The BoZone
BEGIN:VTIMEZONE
TZID:America/Denver
BEGIN:DAYLIGHT
TZOFFSETFROM:-0700
TZOFFSETTO:-0600
TZNAME:MDT
DTSTART:20260308T090000
END:DAYLIGHT
BEGIN:STANDARD
TZOFFSETFROM:-0600
TZOFFSETTO:-0700
TZNAME:MST
DTSTART:20261101T080000
END:STANDARD
END:VTIMEZONE
BEGIN:VEVENT
DTSTART;TZID=America/Denver:20260424T190000
DTEND;TZID=America/Denver:20260424T190000
DTSTAMP:20260423T050400
CREATED:20260422T231122Z
LAST-MODIFIED:20260422T231122Z
UID:316358-1777057200-1777057200@bozone.com
SUMMARY:R Bar Singo
DESCRIPTION:
URL:https://bozone.com/event/r-bar-singo/
LOCATION:Rocking R Bar\, 211 E Main\, Bozeman\, United States
CATEGORIES:Miscellanea,Music
GEO:45.6795737;-111.0337531
X-APPLE-STRUCTURED-LOCATION;VALUE=URI;X-ADDRESS=Rocking R Bar 211 E Main Bozeman United States;X-APPLE-RADIUS=500;X-TITLE=211 E Main:geo:-111.0337531,45.6795737
END:VEVENT
END:VCALENDAR