BEGIN:VCALENDAR
VERSION:2.0
PRODID:-//The BoZone - ECPv5.12.0//NONSGML v1.0//EN
CALSCALE:GREGORIAN
METHOD:PUBLISH
X-WR-CALNAME:The BoZone
X-ORIGINAL-URL:https://bozone.com
X-WR-CALDESC:Events for The BoZone
BEGIN:VTIMEZONE
TZID:America/Denver
BEGIN:DAYLIGHT
TZOFFSETFROM:-0700
TZOFFSETTO:-0600
TZNAME:MDT
DTSTART:20250309T090000
END:DAYLIGHT
BEGIN:STANDARD
TZOFFSETFROM:-0600
TZOFFSETTO:-0700
TZNAME:MST
DTSTART:20251102T080000
END:STANDARD
END:VTIMEZONE
BEGIN:VEVENT
DTSTART;TZID=America/Denver:20251129T200000
DTEND;TZID=America/Denver:20251129T200000
DTSTAMP:20260423T112430
CREATED:20251025T020139Z
LAST-MODIFIED:20251025T020139Z
UID:300230-1764446400-1764446400@bozone.com
SUMMARY:Puttin on The Hits- Karaoke
DESCRIPTION:The Jump is hosting Bozeman’s newest and biggest karaoke night!
URL:https://bozone.com/event/puttin-on-the-hits-karaoke-3/
LOCATION:The Jump\, 75770 Gallatin Rd\, Gallatin Gateway\, MT\, 59730\, United States
CATEGORIES:Music
GEO:45.58333;-111.1969895
X-APPLE-STRUCTURED-LOCATION;VALUE=URI;X-ADDRESS=The Jump 75770 Gallatin Rd Gallatin Gateway MT 59730 United States;X-APPLE-RADIUS=500;X-TITLE=75770 Gallatin Rd:geo:-111.1969895,45.58333
END:VEVENT
END:VCALENDAR