BEGIN:VCALENDAR
VERSION:2.0
PRODID:-//The BoZone - ECPv5.12.0//NONSGML v1.0//EN
CALSCALE:GREGORIAN
METHOD:PUBLISH
X-WR-CALNAME:The BoZone
X-ORIGINAL-URL:https://bozone.com
X-WR-CALDESC:Events for The BoZone
BEGIN:VTIMEZONE
TZID:America/Denver
BEGIN:DAYLIGHT
TZOFFSETFROM:-0700
TZOFFSETTO:-0600
TZNAME:MDT
DTSTART:20250309T090000
END:DAYLIGHT
BEGIN:STANDARD
TZOFFSETFROM:-0600
TZOFFSETTO:-0700
TZNAME:MST
DTSTART:20251102T080000
END:STANDARD
END:VTIMEZONE
BEGIN:VEVENT
DTSTART;TZID=America/Denver:20251108T100000
DTEND;TZID=America/Denver:20251108T140000
DTSTAMP:20260421T182547
CREATED:20251029T170115Z
LAST-MODIFIED:20251029T170115Z
UID:301365-1762596000-1762610400@bozone.com
SUMMARY:Popup Holiday Boutique
DESCRIPTION:Popup Show and sale of handcrafted items. Handmade quilts\, other quilted items-table runners\, hangings\, Christmas decor\, felt toys\, baby items\, stuffed animals\, and more. November 8 from 10 am to 2 pm at 81 8th Street Unit 9 in Belgrade (on the Frontage Road to Manhattan next to Tanya’s School of Dance)
URL:https://bozone.com/event/popup-holiday-boutique/
LOCATION:81 8th Street\, Unit 9 Belgrade\, Mt 59714\, 81 8th Street\, Unit 9\, Belgrade\, MT\, 59714\, United States
CATEGORIES:Miscellanea
END:VEVENT
END:VCALENDAR