BEGIN:VCALENDAR
VERSION:2.0
PRODID:-//The BoZone - ECPv5.12.0//NONSGML v1.0//EN
CALSCALE:GREGORIAN
METHOD:PUBLISH
X-WR-CALNAME:The BoZone
X-ORIGINAL-URL:https://bozone.com
X-WR-CALDESC:Events for The BoZone
BEGIN:VTIMEZONE
TZID:America/Denver
BEGIN:DAYLIGHT
TZOFFSETFROM:-0700
TZOFFSETTO:-0600
TZNAME:MDT
DTSTART:20260308T090000
END:DAYLIGHT
BEGIN:STANDARD
TZOFFSETFROM:-0600
TZOFFSETTO:-0700
TZNAME:MST
DTSTART:20261101T080000
END:STANDARD
END:VTIMEZONE
BEGIN:VEVENT
DTSTART;VALUE=DATE:20260207
DTEND;VALUE=DATE:20260208
DTSTAMP:20260422T164622
CREATED:20251230T043708Z
LAST-MODIFIED:20251230T043708Z
UID:305187-1770422400-1770508799@bozone.com
SUMMARY:Poetry Writing Workshop & Reading with Maggie Dewane
DESCRIPTION:February 7\, 2026\nPoetry Writing Workshop & Reading with Maggie Dewane\n\n\nSave the date for a poetry writing workshop and reading with Maggie Dewane on Saturday\, February 7th. More information to come!
URL:https://bozone.com/event/poetry-writing-workshop-reading-with-maggie-dewane-2/
LOCATION:Wheatgrass Books – Livingston\, 120 N. Main\, Livingston\, MT\, 59047\, United States
CATEGORIES:Classes,Lectures,Miscellanea
GEO:45.6622081;-110.5602921
X-APPLE-STRUCTURED-LOCATION;VALUE=URI;X-ADDRESS=Wheatgrass Books – Livingston 120 N. Main Livingston MT 59047 United States;X-APPLE-RADIUS=500;X-TITLE=120 N. Main:geo:-110.5602921,45.6622081
END:VEVENT
END:VCALENDAR