BEGIN:VCALENDAR
VERSION:2.0
PRODID:-//The BoZone - ECPv5.12.0//NONSGML v1.0//EN
CALSCALE:GREGORIAN
METHOD:PUBLISH
X-WR-CALNAME:The BoZone
X-ORIGINAL-URL:https://bozone.com
X-WR-CALDESC:Events for The BoZone
BEGIN:VTIMEZONE
TZID:America/Denver
BEGIN:DAYLIGHT
TZOFFSETFROM:-0700
TZOFFSETTO:-0600
TZNAME:MDT
DTSTART:20260308T090000
END:DAYLIGHT
BEGIN:STANDARD
TZOFFSETFROM:-0600
TZOFFSETTO:-0700
TZNAME:MST
DTSTART:20261101T080000
END:STANDARD
END:VTIMEZONE
BEGIN:VEVENT
DTSTART;TZID=America/Denver:20260402T190000
DTEND;TZID=America/Denver:20260402T190000
DTSTAMP:20260421T153134
CREATED:20260226T203242Z
LAST-MODIFIED:20260327T215815Z
UID:312538-1775156400-1775156400@bozone.com
SUMMARY:Poetry in the Round Celebration
DESCRIPTION:Poetry in the Round\nApril 2 @ 7:00 pm – 9:00 pm
URL:https://bozone.com/event/poetry-in-the-round-celebration/
LOCATION:Wheatgrass Books – Livingston\, 120 N. Main\, Livingston\, MT\, 59047\, United States
CATEGORIES:Miscellanea
GEO:45.6622081;-110.5602921
X-APPLE-STRUCTURED-LOCATION;VALUE=URI;X-ADDRESS=Wheatgrass Books – Livingston 120 N. Main Livingston MT 59047 United States;X-APPLE-RADIUS=500;X-TITLE=120 N. Main:geo:-110.5602921,45.6622081
END:VEVENT
END:VCALENDAR