BEGIN:VCALENDAR
VERSION:2.0
PRODID:-//The BoZone - ECPv5.12.0//NONSGML v1.0//EN
CALSCALE:GREGORIAN
METHOD:PUBLISH
X-WR-CALNAME:The BoZone
X-ORIGINAL-URL:https://bozone.com
X-WR-CALDESC:Events for The BoZone
BEGIN:VTIMEZONE
TZID:America/Denver
BEGIN:DAYLIGHT
TZOFFSETFROM:-0700
TZOFFSETTO:-0600
TZNAME:MDT
DTSTART:20250309T090000
END:DAYLIGHT
BEGIN:STANDARD
TZOFFSETFROM:-0600
TZOFFSETTO:-0700
TZNAME:MST
DTSTART:20251102T080000
END:STANDARD
END:VTIMEZONE
BEGIN:VEVENT
DTSTART;TZID=America/Denver:20250710T100000
DTEND;TZID=America/Denver:20250710T100000
DTSTAMP:20260422T072100
CREATED:20250623T221640Z
LAST-MODIFIED:20250623T221640Z
UID:291558-1752141600-1752141600@bozone.com
SUMMARY:Play and Learn Camp: Ages 2-5
DESCRIPTION:Join us for fun free summer activities! Ages 2-5\, don’t forget to bring your adult! Come explore\, play\, learn and have lots of fun!
URL:https://bozone.com/event/play-and-learn-camp-ages-2-5/
LOCATION:HRDC’s Belgrade Head Start\, 82 7th St\, Belgrade\, MT\, 59714\, United States
CATEGORIES:Miscellanea
GEO:45.7824542;-111.1878253
X-APPLE-STRUCTURED-LOCATION;VALUE=URI;X-ADDRESS=HRDC’s Belgrade Head Start 82 7th St Belgrade MT 59714 United States;X-APPLE-RADIUS=500;X-TITLE=82 7th St:geo:-111.1878253,45.7824542
END:VEVENT
END:VCALENDAR