BEGIN:VCALENDAR
VERSION:2.0
PRODID:-//The BoZone - ECPv5.12.0//NONSGML v1.0//EN
CALSCALE:GREGORIAN
METHOD:PUBLISH
X-WR-CALNAME:The BoZone
X-ORIGINAL-URL:https://bozone.com
X-WR-CALDESC:Events for The BoZone
BEGIN:VTIMEZONE
TZID:America/Denver
BEGIN:DAYLIGHT
TZOFFSETFROM:-0700
TZOFFSETTO:-0600
TZNAME:MDT
DTSTART:20260308T090000
END:DAYLIGHT
BEGIN:STANDARD
TZOFFSETFROM:-0600
TZOFFSETTO:-0700
TZNAME:MST
DTSTART:20261101T080000
END:STANDARD
END:VTIMEZONE
BEGIN:VEVENT
DTSTART;TZID=America/Denver:20260309T160000
DTEND;TZID=America/Denver:20260309T160000
DTSTAMP:20260424T212010
CREATED:20260228T012747Z
LAST-MODIFIED:20260228T012747Z
UID:312615-1773072000-1773072000@bozone.com
SUMMARY:Pint night for Crosscut
DESCRIPTION:Come watch Paralympic Games Para Biathlon Event! Crosscut Mountain Sports Center is a nonprofit outdoor recreation and education hub located in Bridger Canyon near Bozeman\, Montana. We offer year-round\, human-powered activities including Nordic skiing\, mountain biking\, biathlon\, and outdoor education programs for people of all ages and abilities\, all focused on connecting our community with nature.
URL:https://bozone.com/event/pint-night-for-crosscut-2/
LOCATION:MAP Brewing\, 510 Manley Road\, Bozeman\, United States
CATEGORIES:Miscellanea
GEO:45.7033151;-111.0401931
X-APPLE-STRUCTURED-LOCATION;VALUE=URI;X-ADDRESS=MAP Brewing 510 Manley Road Bozeman United States;X-APPLE-RADIUS=500;X-TITLE=510 Manley Road:geo:-111.0401931,45.7033151
END:VEVENT
END:VCALENDAR