BEGIN:VCALENDAR
VERSION:2.0
PRODID:-//The BoZone - ECPv5.12.0//NONSGML v1.0//EN
CALSCALE:GREGORIAN
METHOD:PUBLISH
X-WR-CALNAME:The BoZone
X-ORIGINAL-URL:https://bozone.com
X-WR-CALDESC:Events for The BoZone
BEGIN:VTIMEZONE
TZID:America/Denver
BEGIN:DAYLIGHT
TZOFFSETFROM:-0700
TZOFFSETTO:-0600
TZNAME:MDT
DTSTART:20250309T090000
END:DAYLIGHT
BEGIN:STANDARD
TZOFFSETFROM:-0600
TZOFFSETTO:-0700
TZNAME:MST
DTSTART:20251102T080000
END:STANDARD
END:VTIMEZONE
BEGIN:VEVENT
DTSTART;TZID=America/Denver:20251129T190000
DTEND;TZID=America/Denver:20251129T190000
DTSTAMP:20260423T141906
CREATED:20250727T155133Z
LAST-MODIFIED:20251122T225710Z
UID:294147-1764442800-1764442800@bozone.com
SUMMARY:Pinky and the Floyd
DESCRIPTION:Pinky and the Floyd will be celebrating the 50th anniversary of the iconic album “Wish You Were Here” with a series of can’t-miss performances in Fall of 2025. These shows will hold a particularly special weight for the band and their fans as they mark their first performances following the recent passing of their beloved keyboardist (and founding member)\, Joe Kirchner. While his absence will be deeply felt\, the band is dedicated to honoring his memory by bringing the timeless music of Pink Floyd to the stage with the passion and artistry that Joe himself embodied. The album’s themes of absence\, alienation\, and the pressures of the music industry resonate deeply\, making this 50th-anniversary celebration a particularly meaningful moment to reflect on how these themes remain powerfully relevant in today’s world. Prepare to be transported as Pinky and the Floyd deliver “Wish You Were Here” in its full glory\, artfully blending each track with a selection of other cherished gems from the vast Pink Floyd catalog.
URL:https://bozone.com/event/pinky-and-the-floyd/
LOCATION:The Elm\, MT\, United States
CATEGORIES:Music
GEO:45.6847558;-111.0457564
END:VEVENT
END:VCALENDAR