BEGIN:VCALENDAR
VERSION:2.0
PRODID:-//The BoZone - ECPv5.12.0//NONSGML v1.0//EN
CALSCALE:GREGORIAN
METHOD:PUBLISH
X-WR-CALNAME:The BoZone
X-ORIGINAL-URL:https://bozone.com
X-WR-CALDESC:Events for The BoZone
BEGIN:VTIMEZONE
TZID:America/Denver
BEGIN:DAYLIGHT
TZOFFSETFROM:-0700
TZOFFSETTO:-0600
TZNAME:MDT
DTSTART:20250309T090000
END:DAYLIGHT
BEGIN:STANDARD
TZOFFSETFROM:-0600
TZOFFSETTO:-0700
TZNAME:MST
DTSTART:20251102T080000
END:STANDARD
END:VTIMEZONE
BEGIN:VEVENT
DTSTART;TZID=America/Denver:20250719T113000
DTEND;TZID=America/Denver:20250719T113000
DTSTAMP:20260420T103931
CREATED:20250623T205921Z
LAST-MODIFIED:20250623T205921Z
UID:291616-1752924600-1752924600@bozone.com
SUMMARY:Peak Fitness & Motion: Grand Opening and Appreciation BBQ
DESCRIPTION:Come celebrate and enjoy the Grand Opening of 4 Corners newest self-service gym\, personal training studio\, and group strength facility.\nHosting:\nFREE all-levels strength and conditioning workout at 11:30 am (registration required- Select the ticket tab)\nPop up from Stretch Lab Bozeman offering FREE 15 minute stretch sessions.\nPop up from Stack’d Supplements\, offering samples\, education and more on Supplements and Nutrition.\nPrairie Dogs Food Cart\nwill be there for your lunch needs\, and Peak Fitness will provide cold beverages\, light finger food and refreshments and more! \nGiveaways:\nGym Memberships\nGroup Fitness Classes\nLSKD Apparel Gift Cards\nMonarch Fitness Lagree Studio Classes\nand MORE!
URL:https://bozone.com/event/peak-fitness-motion-grand-opening-and-appreciation-bbq/
LOCATION:Peak Fitness & Motion\, 255 Garden Drive Suite D\, Bozeman\, MT\, 59718\, United States
CATEGORIES:Miscellanea
GEO:45.6776426;-111.1899492
X-APPLE-STRUCTURED-LOCATION;VALUE=URI;X-ADDRESS=Peak Fitness & Motion 255 Garden Drive Suite D Bozeman MT 59718 United States;X-APPLE-RADIUS=500;X-TITLE=255 Garden Drive Suite D:geo:-111.1899492,45.6776426
END:VEVENT
END:VCALENDAR