BEGIN:VCALENDAR
VERSION:2.0
PRODID:-//The BoZone - ECPv5.12.0//NONSGML v1.0//EN
CALSCALE:GREGORIAN
METHOD:PUBLISH
X-WR-CALNAME:The BoZone
X-ORIGINAL-URL:https://bozone.com
X-WR-CALDESC:Events for The BoZone
BEGIN:VTIMEZONE
TZID:America/Denver
BEGIN:DAYLIGHT
TZOFFSETFROM:-0700
TZOFFSETTO:-0600
TZNAME:MDT
DTSTART:20260308T090000
END:DAYLIGHT
BEGIN:STANDARD
TZOFFSETFROM:-0600
TZOFFSETTO:-0700
TZNAME:MST
DTSTART:20261101T080000
END:STANDARD
END:VTIMEZONE
BEGIN:VEVENT
DTSTART;TZID=America/Denver:20260418T180000
DTEND;TZID=America/Denver:20260418T180000
DTSTAMP:20260421T174932
CREATED:20260301T011657Z
LAST-MODIFIED:20260301T012324Z
UID:312685-1776535200-1776535200@bozone.com
SUMMARY:Paul Cauthen Show
DESCRIPTION:Kalispell’s Majestic Valley Arena is proud to announce a headlining concert with East Texas baritone Paul Cauthen aka Black Velvet. The concert will serve as a celebration of his hotly anticipated new album\, The Book Of Paul\, dropping April 3. Cauthen will be supported by New Orleans folk duo Crowe Boys\, and Western rock favorites Radio Ranch. \nCauthen’s concert will be the first show in a new chapter for the Majestic Valley Arena\, which opened its doors in 2002. The venue is situated on 50 acres with spectacular views\, and its singular size and capabilities make it one of the premier event centers in the Northwest. Under new ownership\, for the first time since its construction\, Majestic Valley Arena will be hosting more public concerts and events while continuing to uphold its commitment to community and equine programming\, including the long-running Brash Rodeo series.
URL:https://bozone.com/event/paul-cauthen-show/
LOCATION:Majestic Valley Arena – Kalispell\, 3630 U.S. 93 N\, Kalispell\, MT\, United States
CATEGORIES:Music
END:VEVENT
END:VCALENDAR