BEGIN:VCALENDAR
VERSION:2.0
PRODID:-//The BoZone - ECPv5.12.0//NONSGML v1.0//EN
CALSCALE:GREGORIAN
METHOD:PUBLISH
X-WR-CALNAME:The BoZone
X-ORIGINAL-URL:https://bozone.com
X-WR-CALDESC:Events for The BoZone
BEGIN:VTIMEZONE
TZID:America/Denver
BEGIN:DAYLIGHT
TZOFFSETFROM:-0700
TZOFFSETTO:-0600
TZNAME:MDT
DTSTART:20250309T090000
END:DAYLIGHT
BEGIN:STANDARD
TZOFFSETFROM:-0600
TZOFFSETTO:-0700
TZNAME:MST
DTSTART:20251102T080000
END:STANDARD
END:VTIMEZONE
BEGIN:VEVENT
DTSTART;TZID=America/Denver:20251109T160000
DTEND;TZID=America/Denver:20251109T160000
DTSTAMP:20260422T123719
CREATED:20251010T220459Z
LAST-MODIFIED:20251010T220459Z
UID:299887-1762704000-1762704000@bozone.com
SUMMARY:Paint & Sip - Love Birds
DESCRIPTION:Join us at Bar 3 Bar-B-Q for a beginner-friendly paint & sip! We’re getting crafty and bringing everything you need to make your masterpiece.\nWhat: A beginner-friendly painting class \nWhen: Sunday\, November 9th from 4:00-6:00 PM \nWhere: 119 E Main St\, Belgrade\, MT 59714 \nWho: You and your favorite people \nWhy: Why not? \nHow: Buy a ticket online to reserve your seat \nPS: Please arrive 10 minutes early to grab your drinks and get settled!
URL:https://bozone.com/event/paint-sip-love-birds/
LOCATION:Bar 3 BBQ\, 119 East Main St\, Belgrade\, MT\, 59714\, United States
CATEGORIES:Arts & Theatre,Classes
GEO:45.7765839;-111.1771994
X-APPLE-STRUCTURED-LOCATION;VALUE=URI;X-ADDRESS=Bar 3 BBQ 119 East Main St Belgrade MT 59714 United States;X-APPLE-RADIUS=500;X-TITLE=119 East Main St:geo:-111.1771994,45.7765839
END:VEVENT
END:VCALENDAR