BEGIN:VCALENDAR
VERSION:2.0
PRODID:-//The BoZone - ECPv5.12.0//NONSGML v1.0//EN
CALSCALE:GREGORIAN
METHOD:PUBLISH
X-WR-CALNAME:The BoZone
X-ORIGINAL-URL:https://bozone.com
X-WR-CALDESC:Events for The BoZone
BEGIN:VTIMEZONE
TZID:America/Denver
BEGIN:DAYLIGHT
TZOFFSETFROM:-0700
TZOFFSETTO:-0600
TZNAME:MDT
DTSTART:20250309T090000
END:DAYLIGHT
BEGIN:STANDARD
TZOFFSETFROM:-0600
TZOFFSETTO:-0700
TZNAME:MST
DTSTART:20251102T080000
END:STANDARD
END:VTIMEZONE
BEGIN:VEVENT
DTSTART;TZID=America/Denver:20251019T170000
DTEND;TZID=America/Denver:20251019T170000
DTSTAMP:20260421T170550
CREATED:20250918T125245Z
LAST-MODIFIED:20250918T125245Z
UID:297625-1760893200-1760893200@bozone.com
SUMMARY:Paint & Sip - "Halloween Night"
DESCRIPTION:Get in the Halloween spirit at Audrey’s Pizza with a Pumpking Paint & Sip!\n* What: A beginner-friendly painting class\n* When: Sunday\, October 19th from 5:00-7:00 PM\n* Where: Audrey’s Pizza & FreeFall Brewery 806 N 7th Ave\, Bozeman\, MT 59715\n* Who: You and your pals\n* Why: Why not?\n* How: Buy a ticket online to reserve your seat\n* PS: Please arrive 10 minutes early to grab your drinks and get settled!
URL:https://bozone.com/event/paint-sip-halloween-night/
LOCATION:Audrey’s Pizza & Freefall Brewery
CATEGORIES:Arts & Theatre,Classes,Miscellanea
END:VEVENT
END:VCALENDAR