BEGIN:VCALENDAR
VERSION:2.0
PRODID:-//The BoZone - ECPv5.12.0//NONSGML v1.0//EN
CALSCALE:GREGORIAN
METHOD:PUBLISH
X-WR-CALNAME:The BoZone
X-ORIGINAL-URL:https://bozone.com
X-WR-CALDESC:Events for The BoZone
BEGIN:VTIMEZONE
TZID:America/Denver
BEGIN:DAYLIGHT
TZOFFSETFROM:-0700
TZOFFSETTO:-0600
TZNAME:MDT
DTSTART:20260308T090000
END:DAYLIGHT
BEGIN:STANDARD
TZOFFSETFROM:-0600
TZOFFSETTO:-0700
TZNAME:MST
DTSTART:20261101T080000
END:STANDARD
END:VTIMEZONE
BEGIN:VEVENT
DTSTART;TZID=America/Denver:20260226T200000
DTEND;TZID=America/Denver:20260226T200000
DTSTAMP:20260423T150542
CREATED:20251129T192758Z
LAST-MODIFIED:20260224T172824Z
UID:303165-1772136000-1772136000@bozone.com
SUMMARY:OPIUO Cool Customer & rSUN
DESCRIPTION:Feb26Thu \n\nOPIUO\nCool Customer & rSUN\n\nThe ELM\nOPIUO
URL:https://bozone.com/event/opiuo/
LOCATION:The Elm\, MT\, United States
CATEGORIES:Music
GEO:45.6847558;-111.0457564
END:VEVENT
END:VCALENDAR