BEGIN:VCALENDAR
VERSION:2.0
PRODID:-//The BoZone - ECPv5.12.0//NONSGML v1.0//EN
CALSCALE:GREGORIAN
METHOD:PUBLISH
X-WR-CALNAME:The BoZone
X-ORIGINAL-URL:https://bozone.com
X-WR-CALDESC:Events for The BoZone
BEGIN:VTIMEZONE
TZID:America/Denver
BEGIN:DAYLIGHT
TZOFFSETFROM:-0700
TZOFFSETTO:-0600
TZNAME:MDT
DTSTART:20250309T090000
END:DAYLIGHT
BEGIN:STANDARD
TZOFFSETFROM:-0600
TZOFFSETTO:-0700
TZNAME:MST
DTSTART:20251102T080000
END:STANDARD
END:VTIMEZONE
BEGIN:VEVENT
DTSTART;TZID=America/Denver:20250824T150000
DTEND;TZID=America/Denver:20250824T170000
DTSTAMP:20260422T013523
CREATED:20250810T021444Z
LAST-MODIFIED:20250810T021444Z
UID:295574-1756047600-1756054800@bozone.com
SUMMARY:Opera Montana Presents: Ragtime
DESCRIPTION:The epic Tony-award winning musical RAGTIME makes its Montana debut in a new production by the visionary and groundbreaking stage director Francesca Zambello\, artistic director of Washington National Opera. Set during the dramatically changing landscape of the early 20th-century\, RAGTIME masterfully intertwines the stories of three diverse families as they seek the American Dream. Featuring unforgettable songs and a powerhouse cast\, this captivating musical of hope and resilience resonates more than ever with today’s audiences.\nPerformance Dates: \nFriday January 23 at 7:00pm\nSaturday January 24 at 7:00pm\nSunday January 25 at 3:00pm \nFriday January 30 at 7:00pm\nSaturday January 31 at 7:00pm\nSunday February 1 at 3:00pm \nFind tickets here: https://operamontana.easy-ware-ticketing.com/events \nContact us\nEmail: hello@operamontana.org\nOffice: (406)587-2889
URL:https://bozone.com/event/opera-montana-presents-ragtime/2025-08-24/
LOCATION:The Ellen Theatre\, 17 W Main\, Bozeman\, MT\, 59715\, United States
CATEGORIES:Arts & Theatre
GEO:45.6794524;-111.037852
X-APPLE-STRUCTURED-LOCATION;VALUE=URI;X-ADDRESS=The Ellen Theatre 17 W Main Bozeman MT 59715 United States;X-APPLE-RADIUS=500;X-TITLE=17 W Main:geo:-111.037852,45.6794524
END:VEVENT
END:VCALENDAR