BEGIN:VCALENDAR
VERSION:2.0
PRODID:-//The BoZone - ECPv5.12.0//NONSGML v1.0//EN
CALSCALE:GREGORIAN
METHOD:PUBLISH
X-WR-CALNAME:The BoZone
X-ORIGINAL-URL:https://bozone.com
X-WR-CALDESC:Events for The BoZone
BEGIN:VTIMEZONE
TZID:America/Denver
BEGIN:DAYLIGHT
TZOFFSETFROM:-0700
TZOFFSETTO:-0600
TZNAME:MDT
DTSTART:20250309T090000
END:DAYLIGHT
BEGIN:STANDARD
TZOFFSETFROM:-0600
TZOFFSETTO:-0700
TZNAME:MST
DTSTART:20251102T080000
END:STANDARD
END:VTIMEZONE
BEGIN:VEVENT
DTSTART;TZID=America/Denver:20250805T163000
DTEND;TZID=America/Denver:20250805T183000
DTSTAMP:20260422T103057
CREATED:20250629T173632Z
LAST-MODIFIED:20250629T173632Z
UID:293506-1754411400-1754418600@bozone.com
SUMMARY:One&Only Moonlight Basin – Hiring Event
DESCRIPTION:We’re seeking legacy makers! One&Only Moonlight Basin\, Big Sky’s newest ultra-luxury resort opening this November\, is hosting a hiring event on Tuesday\, August 5 from 4:30-6:30PM. Hiring managers will be onsite to host interviews for positions in hotel operations across Culinary\, Food & Beverage and Rooms divisions. Interviews & offers will be extended to qualified candidates onsite.
URL:https://bozone.com/event/oneonly-moonlight-basin-hiring-event-2/
LOCATION:Arts Council of Big Sky\, 77 Lone Peak Dr\, Big Sky\, MT\, 59716\, United States
CATEGORIES:Miscellanea
GEO:45.2617806;-111.3080244
X-APPLE-STRUCTURED-LOCATION;VALUE=URI;X-ADDRESS=Arts Council of Big Sky 77 Lone Peak Dr Big Sky MT 59716 United States;X-APPLE-RADIUS=500;X-TITLE=77 Lone Peak Dr:geo:-111.3080244,45.2617806
END:VEVENT
END:VCALENDAR