BEGIN:VCALENDAR
VERSION:2.0
PRODID:-//The BoZone - ECPv5.12.0//NONSGML v1.0//EN
CALSCALE:GREGORIAN
METHOD:PUBLISH
X-WR-CALNAME:The BoZone
X-ORIGINAL-URL:https://bozone.com
X-WR-CALDESC:Events for The BoZone
BEGIN:VTIMEZONE
TZID:America/Denver
BEGIN:DAYLIGHT
TZOFFSETFROM:-0700
TZOFFSETTO:-0600
TZNAME:MDT
DTSTART:20250309T090000
END:DAYLIGHT
BEGIN:STANDARD
TZOFFSETFROM:-0600
TZOFFSETTO:-0700
TZNAME:MST
DTSTART:20251102T080000
END:STANDARD
END:VTIMEZONE
BEGIN:VEVENT
DTSTART;TZID=America/Denver:20251114T120000
DTEND;TZID=America/Denver:20251114T120000
DTSTAMP:20260419T144223
CREATED:20251025T021859Z
LAST-MODIFIED:20251025T021859Z
UID:300213-1763121600-1763121600@bozone.com
SUMMARY:OLLI at MSU Friday Forum - Recycling in Bozeman: Availability\, Impacts and Challenges
DESCRIPTION:Friday\, November 14\, 2025 12:00pm – 1:30pm Online via Zoom \nThe Osher Lifelong Learning Institute at Montana State University will hold a virtual Friday Forum on Nov. 14 to discuss recycling in Bozeman and Gallatin County. \nThe forum\, “Recycling in Bozeman: Availability\, Impacts and Challenges\,” will stream on Zoom from noon to 1:30 p.m. and is free and open to the public. The event will explore the impact of local and regional recycling\, including the current state of Gallatin Valley’s recycling efforts\, commercial opportunities and challenges for consumers and providers. \nSpeakers will include Nick Ross\, the city of Bozeman’s director of transportation and engineering who oversees solid waste management\, and Dave Leverett\, owner of We Recycle Montana with more than 30 years of commercial recycling experience in the Greater Yellowstone region. \nFriday Forums occur on the second Friday of the month through May. Participants must register for the recycling forum before 11 a.m. Friday\, Nov. 14. They will receive an email from Zoom with a link and login instructions ahead of the event. For more information or to register\, visit www.montana.edu/olli/offerings or call 406-994-6646. \nOLLI at MSU is a program of Academic Technology and Outreach\, which provides opportunities for outreach and engagement.
URL:https://bozone.com/event/olli-at-msu-friday-forum-recycling-in-bozeman-availability-impacts-and-challenges/
LOCATION:Virtual Event\, Bozeman\, MT\, 59715\, United States
CATEGORIES:Lectures
GEO:46.8796822;-110.3625658
END:VEVENT
END:VCALENDAR