BEGIN:VCALENDAR
VERSION:2.0
PRODID:-//The BoZone - ECPv5.12.0//NONSGML v1.0//EN
CALSCALE:GREGORIAN
METHOD:PUBLISH
X-WR-CALNAME:The BoZone
X-ORIGINAL-URL:https://bozone.com
X-WR-CALDESC:Events for The BoZone
BEGIN:VTIMEZONE
TZID:America/Denver
BEGIN:DAYLIGHT
TZOFFSETFROM:-0700
TZOFFSETTO:-0600
TZNAME:MDT
DTSTART:20260308T090000
END:DAYLIGHT
BEGIN:STANDARD
TZOFFSETFROM:-0600
TZOFFSETTO:-0700
TZNAME:MST
DTSTART:20261101T080000
END:STANDARD
END:VTIMEZONE
BEGIN:VEVENT
DTSTART;TZID=America/Denver:20260411T193000
DTEND;TZID=America/Denver:20260411T193000
DTSTAMP:20260421T083140
CREATED:20260224T044409Z
LAST-MODIFIED:20260224T044409Z
UID:311743-1775935800-1775935800@bozone.com
SUMMARY:Old-Time Square & Contra Dance
DESCRIPTION:2nd Saturday\nOld-Time Square & Contra Dance\nApril 11th – 7:30 PM\nGallatin Labor Temple\nThe Blue Moon String Band will play tunes and Rab Cummings and Friends will call the dances. Beginner’s workshop at 7:30\, dance from 8:00-11:00. Suggested donation $10. \nNot a BFS event\, but it’s definitely in our wheelhouse. These dances are scheduled on the second Saturday of each month through the winter.
URL:https://bozone.com/event/old-time-square-contra-dance-2/
LOCATION:Gallatin Labor Temple\, 422 E. Mendenhall\, Bozeman\, MT\, 59715\, United States
CATEGORIES:Classes,Miscellanea,Music
GEO:45.6802113;-111.0312258
X-APPLE-STRUCTURED-LOCATION;VALUE=URI;X-ADDRESS=Gallatin Labor Temple 422 E. Mendenhall Bozeman MT 59715 United States;X-APPLE-RADIUS=500;X-TITLE=422 E. Mendenhall:geo:-111.0312258,45.6802113
END:VEVENT
END:VCALENDAR