BEGIN:VCALENDAR
VERSION:2.0
PRODID:-//The BoZone - ECPv5.12.0//NONSGML v1.0//EN
CALSCALE:GREGORIAN
METHOD:PUBLISH
X-WR-CALNAME:The BoZone
X-ORIGINAL-URL:https://bozone.com
X-WR-CALDESC:Events for The BoZone
BEGIN:VTIMEZONE
TZID:America/Denver
BEGIN:DAYLIGHT
TZOFFSETFROM:-0700
TZOFFSETTO:-0600
TZNAME:MDT
DTSTART:20250309T090000
END:DAYLIGHT
BEGIN:STANDARD
TZOFFSETFROM:-0600
TZOFFSETTO:-0700
TZNAME:MST
DTSTART:20251102T080000
END:STANDARD
END:VTIMEZONE
BEGIN:VEVENT
DTSTART;TZID=America/Denver:20251231T210000
DTEND;TZID=America/Denver:20251231T210000
DTSTAMP:20260424T061658
CREATED:20251124T151949Z
LAST-MODIFIED:20251124T151949Z
UID:302306-1767214800-1767214800@bozone.com
SUMMARY:NYE 80s Après Ski at Sky Shed
DESCRIPTION:Ring in 2026 Après Ski 80’s Style at Sky Shed!\nSay goodbye to 2025 in true alpine style at Bozeman’s favorite rooftop destination. Sky Shed transforms into a retro après-ski escape\, complete with cozy winter vibes\, iconic mountain views\, light bites\, and cocktails inspired by the slopes.\nA live DJ will keep the energy high from 9 PM to 1 AM\, setting the perfect soundtrack as we count down to the New Year with a bubbly midnight toast. Keep the good times flowing with Willie’s Distillery signature pours and an ice luge to kick the celebration up a notch.\nWhether you’re gearing up for a big night out or looking for a stylish spot to welcome 2026\, Sky Shed is the place to be.\nBundle up\, bring your crew\, and toast to fresh starts\, festive spirits\, and a night you’ll never forget.\nCheers to 2026!
URL:https://bozone.com/event/nye-80s-apres-ski-at-sky-shed/
LOCATION:Sky Shed Rooftop Bar @ Kimpton Armory\, 24 W. MENDENHALL ST.\, Bozeman\, MT\, 59715\, United States
CATEGORIES:Miscellanea,Music
GEO:45.6800443;-111.0380169
X-APPLE-STRUCTURED-LOCATION;VALUE=URI;X-ADDRESS=Sky Shed Rooftop Bar @ Kimpton Armory 24 W. MENDENHALL ST. Bozeman MT 59715 United States;X-APPLE-RADIUS=500;X-TITLE=24 W. MENDENHALL ST.:geo:-111.0380169,45.6800443
END:VEVENT
END:VCALENDAR