BEGIN:VCALENDAR
VERSION:2.0
PRODID:-//The BoZone - ECPv5.12.0//NONSGML v1.0//EN
CALSCALE:GREGORIAN
METHOD:PUBLISH
X-WR-CALNAME:The BoZone
X-ORIGINAL-URL:https://bozone.com
X-WR-CALDESC:Events for The BoZone
BEGIN:VTIMEZONE
TZID:America/Denver
BEGIN:DAYLIGHT
TZOFFSETFROM:-0700
TZOFFSETTO:-0600
TZNAME:MDT
DTSTART:20260308T090000
END:DAYLIGHT
BEGIN:STANDARD
TZOFFSETFROM:-0600
TZOFFSETTO:-0700
TZNAME:MST
DTSTART:20261101T080000
END:STANDARD
END:VTIMEZONE
BEGIN:VEVENT
DTSTART;TZID=America/Denver:20260307T190000
DTEND;TZID=America/Denver:20260307T190000
DTSTAMP:20260420T121806
CREATED:20251129T185556Z
LAST-MODIFIED:20260227T162322Z
UID:303137-1772910000-1772910000@bozone.com
SUMMARY:- SOLD OUT - North Fork Crossing - SOLD OUT -
DESCRIPTION:North Fork Crossing\n\nSaturday\, March 7\, 2026\n7:00 PM  10:00 PM\n\n\n\n\n\n\n\n\nTHIS IS A LIMITED CAPACITY INDOOR SHOW \nNorth Fork Crossing has quickly made their presence known all around Montana. Most notably in the beautiful Gallatin Valley where they live. They have been able to grow their audience to a wide range of listeners – consisting of traditional bluegrass lovers to die hard jam band enthusiasts. \nWe are serving a small dinner menu. There is very limited seating available.  \n$25 ADVANCE – $30 DAY OF SHOW || $40 TWO NIGHT PASS \n\n\n\n\n\nPurchase Saturday\n\n\n\n\nPurchase Two Night Pass
URL:https://bozone.com/event/north-fork-crossing-3/
LOCATION:Pine Creek Lodge – LV\, 2496 East River Road\, Livingston\, United States
CATEGORIES:Music
GEO:45.5076317;-110.5635992
X-APPLE-STRUCTURED-LOCATION;VALUE=URI;X-ADDRESS=Pine Creek Lodge – LV 2496 East River Road Livingston United States;X-APPLE-RADIUS=500;X-TITLE=2496 East River Road:geo:-110.5635992,45.5076317
END:VEVENT
END:VCALENDAR