BEGIN:VCALENDAR
VERSION:2.0
PRODID:-//The BoZone - ECPv5.12.0//NONSGML v1.0//EN
CALSCALE:GREGORIAN
METHOD:PUBLISH
X-WR-CALNAME:The BoZone
X-ORIGINAL-URL:https://bozone.com
X-WR-CALDESC:Events for The BoZone
BEGIN:VTIMEZONE
TZID:America/Denver
BEGIN:DAYLIGHT
TZOFFSETFROM:-0700
TZOFFSETTO:-0600
TZNAME:MDT
DTSTART:20260308T090000
END:DAYLIGHT
BEGIN:STANDARD
TZOFFSETFROM:-0600
TZOFFSETTO:-0700
TZNAME:MST
DTSTART:20261101T080000
END:STANDARD
END:VTIMEZONE
BEGIN:VEVENT
DTSTART;TZID=America/Denver:20260108T190000
DTEND;TZID=America/Denver:20260108T190000
DTSTAMP:20260421T112032
CREATED:20251229T052018Z
LAST-MODIFIED:20251229T052018Z
UID:304697-1767898800-1767898800@bozone.com
SUMMARY:No Man's Land Film Festival
DESCRIPTION:All ages – Family friendly \nWarren Miller Performing Arts Center \nFeaturing underrepresented folks in the outdoors \nNonprofit tabling fair \nExclusive luxe raffle for attendees
URL:https://bozone.com/event/no-mans-land-film-festival/
LOCATION:Warren Miller Performing Arts Center – Big Sky\, 45465 Gallatin Road\, Gallatin Gateway\, MT\, 59730\, United States
CATEGORIES:Movies
GEO:45.2290489;-111.2522824
X-APPLE-STRUCTURED-LOCATION;VALUE=URI;X-ADDRESS=Warren Miller Performing Arts Center – Big Sky 45465 Gallatin Road Gallatin Gateway MT 59730 United States;X-APPLE-RADIUS=500;X-TITLE=45465 Gallatin Road:geo:-111.2522824,45.2290489
END:VEVENT
END:VCALENDAR