BEGIN:VCALENDAR
VERSION:2.0
PRODID:-//The BoZone - ECPv5.12.0//NONSGML v1.0//EN
CALSCALE:GREGORIAN
METHOD:PUBLISH
X-WR-CALNAME:The BoZone
X-ORIGINAL-URL:https://bozone.com
X-WR-CALDESC:Events for The BoZone
BEGIN:VTIMEZONE
TZID:America/Denver
BEGIN:DAYLIGHT
TZOFFSETFROM:-0700
TZOFFSETTO:-0600
TZNAME:MDT
DTSTART:20250309T090000
END:DAYLIGHT
BEGIN:STANDARD
TZOFFSETFROM:-0600
TZOFFSETTO:-0700
TZNAME:MST
DTSTART:20251102T080000
END:STANDARD
END:VTIMEZONE
BEGIN:VEVENT
DTSTART;TZID=America/Denver:20251024T190000
DTEND;TZID=America/Denver:20251024T190000
DTSTAMP:20260420T173922
CREATED:20251024T224055Z
LAST-MODIFIED:20251024T224055Z
UID:300168-1761332400-1761332400@bozone.com
SUMMARY:Nightmare on Aspen street
DESCRIPTION:Come dressed as your favorite classic horror movie character\, and put on your detective hat to solve the mysteries of Nightmare on Aspen street!Inspired by the classic game of mafia\, join an interactive and drama filled murder mystery party.\n$35 enters you in for participation or as a spectator\, with 1 free drink and access to themed snacks\, free swag\, and a chance to win prizes for best costume and more!\nSign up by phone: 406.577.8650\nor on our website: https://ponderosamt.com/eventcalendar
URL:https://bozone.com/event/nightmare-on-aspen-street/
LOCATION:Ponderosa Social Club\, 515 W Aspen\, Bozeman\, MT\, 59715\, United States
CATEGORIES:Miscellanea
GEO:45.687753;-111.0446275
X-APPLE-STRUCTURED-LOCATION;VALUE=URI;X-ADDRESS=Ponderosa Social Club 515 W Aspen Bozeman MT 59715 United States;X-APPLE-RADIUS=500;X-TITLE=515 W Aspen:geo:-111.0446275,45.687753
END:VEVENT
END:VCALENDAR