BEGIN:VCALENDAR
VERSION:2.0
PRODID:-//The BoZone - ECPv5.12.0//NONSGML v1.0//EN
CALSCALE:GREGORIAN
METHOD:PUBLISH
X-WR-CALNAME:The BoZone
X-ORIGINAL-URL:https://bozone.com
X-WR-CALDESC:Events for The BoZone
BEGIN:VTIMEZONE
TZID:America/Denver
BEGIN:DAYLIGHT
TZOFFSETFROM:-0700
TZOFFSETTO:-0600
TZNAME:MDT
DTSTART:20250309T090000
END:DAYLIGHT
BEGIN:STANDARD
TZOFFSETFROM:-0600
TZOFFSETTO:-0700
TZNAME:MST
DTSTART:20251102T080000
END:STANDARD
END:VTIMEZONE
BEGIN:VEVENT
DTSTART;TZID=America/Denver:20251114T193000
DTEND;TZID=America/Denver:20251114T193000
DTSTAMP:20260422T011124
CREATED:20251015T215616Z
LAST-MODIFIED:20251015T215616Z
UID:300032-1763148600-1763148600@bozone.com
SUMMARY:Night & Light: The Music of Lauridsen & Shaw
DESCRIPTION:The Bozeman Symphonic Choir and Bozeman Symphony present Night & Light: The Music of Lauridsen & Shaw\, a moving program of three choral masterpieces by celebrated composers Morten Lauridsen and Caroline Shaw\, November 13–15 at Hope Lutheran Church.\nAudiences will experience the breathtaking beauty of Lauridsen’s Nocturnes\, a luminous work that explores the mystery and allure of night through a stunning tapestry of languages and poetry. Shaw’s and the swallow\, inspired by Psalm 84\, offers a meditation on themes of longing\, refuge\, and hope. The program concludes with Lauridsen’s radiant Lux Aeterna\, beloved worldwide for its profound serenity and emotional depth.\n“Our 100-member choir\, together with the orchestra\, will bring to life music that speaks directly to the soul\,” said Choir Director Conor Whalen. “These works invite audiences on a journey that is both deeply spiritual and profoundly human\, leaving listeners uplifted and transformed.”\nPerformances take place Thursday\, Nov. 13\, at 7:30 p.m.; Friday\, Nov. 14\, at 7:30 p.m.; and Saturday\, Nov. 15\, at 2:30 p.m. at Hope Lutheran Church\, 2152 W. Graf St.\, Bozeman.\nThese performances are made possible by the generous support of sponsors Calum & Tricia DeSouza\, Bob & Donna Ritchie\, and Bruce & Kimberlie Jodar.\nTickets start at $28 for adults\, with discounted tickets available for students. Purchase online at https://www.bozemansymphony.org/music-of-lauridsen-and-shaw or by calling 406-585-9774. Tickets at the door are subject to availability.
URL:https://bozone.com/event/night-light-the-music-of-lauridsen-shaw-2/
LOCATION:Hope Lutheran Church\, 2152 Graf St\, Bozeman\, United States
CATEGORIES:Music
GEO:45.6481929;-111.0659188
X-APPLE-STRUCTURED-LOCATION;VALUE=URI;X-ADDRESS=Hope Lutheran Church 2152 Graf St Bozeman United States;X-APPLE-RADIUS=500;X-TITLE=2152 Graf St:geo:-111.0659188,45.6481929
END:VEVENT
END:VCALENDAR