BEGIN:VCALENDAR
VERSION:2.0
PRODID:-//The BoZone - ECPv5.12.0//NONSGML v1.0//EN
CALSCALE:GREGORIAN
METHOD:PUBLISH
X-WR-CALNAME:The BoZone
X-ORIGINAL-URL:https://bozone.com
X-WR-CALDESC:Events for The BoZone
BEGIN:VTIMEZONE
TZID:America/Denver
BEGIN:DAYLIGHT
TZOFFSETFROM:-0700
TZOFFSETTO:-0600
TZNAME:MDT
DTSTART:20250309T090000
END:DAYLIGHT
BEGIN:STANDARD
TZOFFSETFROM:-0600
TZOFFSETTO:-0700
TZNAME:MST
DTSTART:20251102T080000
END:STANDARD
END:VTIMEZONE
BEGIN:VEVENT
DTSTART;TZID=America/Denver:20251231T200000
DTEND;TZID=America/Denver:20251231T200000
DTSTAMP:20260424T060510
CREATED:20251128T014819Z
LAST-MODIFIED:20251128T014819Z
UID:302907-1767211200-1767211200@bozone.com
SUMMARY:New Queers Eve - Riot
DESCRIPTION:New Queers Eve – Riot \n\n\n\n\n\n\n\n\n\n\n\n\nBy Queer Bozeman\n\n\n\n\n\n\n\nDec 31 at 8pm\n\n\n\n\n\n\n\n\n\n\n\n\n\nQueer babes\, beaus\, and badasses! Let’s dance our way into the New Year. It’s going to be a RIOT!\n\n\n\nNew Queers Eve returns! Come celebrate\, cheer your favorite drag and burlesque performers\, and groove to DJ sets together in Queer community. \nThis year’s theme is RIOT. \nHere are the details: \nThis is an 18+ event. Alcoholic drinks will be available for purchase. \nBring $1s\, $5s\, $20s (!)\, and your loudest cheers\, screams\, and hoots for our performers. \nDress to the theme and be ready to dance! \nTimeline: \n\nDoors and first DJ set at 8:00pm\nPerformances start at 9:00pm\nMidnight! 🥂\nJenn + Juice’s set until about 1 AM\n\nGallatin County Fairgrounds Building 2 \nParking is available and free at the fairgrounds. Make sure to plan for safe\, sober rides/drives home! Cars may be parked overnight 😉 \nTickets: \nEarly Birds tickets are $20 through Dec 26th. On 12/27 prices increase to $30. A pay-what-you-can option is also available. No one will be turned away for lack of funds. \nIf you have extra to spare\, donations to support the pay-what-you-can option are appreciated! \nVolunteers: \nWe are also looking for volunteers to help with setup\, teardown\, event logistics\, and Go-Go Dancers. These volunteers will get free admission. Please reach out to hello@queerbozeman if you are interested! \nSparkle Spectacular: \nOur friends at Raison D’être Dance Project are also hosting their annual Sparkle Spectacular on New Year’s Eve. This fundraiser promises shimmering showgirls\, glitz\, revelry\, and sexy surprises. Buy a ticket to New Queers Eve and you’ll get a special code for 20% off a ticket to the 6:30 showing of Sparkle Spectacular\, and if you show your Sparkle Spectacular ticket to us at NQE\, you’ll get a free glass of Champagne or NA beverage of your choice! Let’s celebrate our fabulous community together! \nSponsors: \nInterested in sponsoring this event? Send us a message! \nPhotos from New Queers Eve 2023 (slides 2 and 3) are by Copeland Photography. Photos from New Queers Eve 2024 (slides 1\, 4\, and 5) by Keanu Manners. \n\n\n\n\n\n\nRead more
URL:https://bozone.com/event/new-queers-eve-riot/
LOCATION:GCF – Gallatin County Fairgrounds – GCF\, 901 N Black\, Bozeman\, United States
CATEGORIES:Miscellanea,Music
GEO:45.6885954;-111.0358461
X-APPLE-STRUCTURED-LOCATION;VALUE=URI;X-ADDRESS=GCF – Gallatin County Fairgrounds – GCF 901 N Black Bozeman United States;X-APPLE-RADIUS=500;X-TITLE=901 N Black:geo:-111.0358461,45.6885954
END:VEVENT
END:VCALENDAR