BEGIN:VCALENDAR
VERSION:2.0
PRODID:-//The BoZone - ECPv5.12.0//NONSGML v1.0//EN
CALSCALE:GREGORIAN
METHOD:PUBLISH
X-WR-CALNAME:The BoZone
X-ORIGINAL-URL:https://bozone.com
X-WR-CALDESC:Events for The BoZone
BEGIN:VTIMEZONE
TZID:America/Denver
BEGIN:DAYLIGHT
TZOFFSETFROM:-0700
TZOFFSETTO:-0600
TZNAME:MDT
DTSTART:20260308T090000
END:DAYLIGHT
BEGIN:STANDARD
TZOFFSETFROM:-0600
TZOFFSETTO:-0700
TZNAME:MST
DTSTART:20261101T080000
END:STANDARD
END:VTIMEZONE
BEGIN:VEVENT
DTSTART;TZID=America/Denver:20260130T190000
DTEND;TZID=America/Denver:20260130T190000
DTSTAMP:20260419T125939
CREATED:20251227T030004Z
LAST-MODIFIED:20251227T030004Z
UID:303728-1769799600-1769799600@bozone.com
SUMMARY:NEW! MOR Members: Cosmos and Cosmos
DESCRIPTION:Friday\, January 30\n7 – 8:30 p.m.\nCosmopolitan cocktails\, cash bar\, light bites\, and classic rock set against dazzling Taylor Planetarium shows. Members\, please bring a friend with you to show off your museum. \nSchedule\n7 p.m. | Enjoy Cosmopolitan cocktails & light bites and meet other MOR members and their friends\n7:20 p.m. | Planetarium Show: Soar through the US to your favorite classic rock\n7:40 p.m. | Cosmos Break\n8 p.m. | Planetarium Show: Soar through Kaleidoscope Skies to your favorite classic rock \nAll Ages\nBair Lobby and Taylor Planetarium\nFor MOR members + friends!\nFor more information: https://museumoftherockies.org/calendar/cosmos-cosmos
URL:https://bozone.com/event/new-mor-members-cosmos-and-cosmos/
LOCATION:Museum of the Rockies\, 600 W Kagy Blvd\, Bozeman\, MT\, 59718\, United States
CATEGORIES:Miscellanea
GEO:46.8796822;-110.3625658
X-APPLE-STRUCTURED-LOCATION;VALUE=URI;X-ADDRESS=Museum of the Rockies 600 W Kagy Blvd Bozeman MT 59718 United States;X-APPLE-RADIUS=500;X-TITLE=600 W Kagy Blvd:geo:-110.3625658,46.8796822
END:VEVENT
END:VCALENDAR