BEGIN:VCALENDAR
VERSION:2.0
PRODID:-//The BoZone - ECPv5.12.0//NONSGML v1.0//EN
CALSCALE:GREGORIAN
METHOD:PUBLISH
X-WR-CALNAME:The BoZone
X-ORIGINAL-URL:https://bozone.com
X-WR-CALDESC:Events for The BoZone
BEGIN:VTIMEZONE
TZID:America/Denver
BEGIN:DAYLIGHT
TZOFFSETFROM:-0700
TZOFFSETTO:-0600
TZNAME:MDT
DTSTART:20250309T090000
END:DAYLIGHT
BEGIN:STANDARD
TZOFFSETFROM:-0600
TZOFFSETTO:-0700
TZNAME:MST
DTSTART:20251102T080000
END:STANDARD
END:VTIMEZONE
BEGIN:VEVENT
DTSTART;TZID=America/Denver:20251018T090000
DTEND;TZID=America/Denver:20251018T090000
DTSTAMP:20260420T011259
CREATED:20250918T124018Z
LAST-MODIFIED:20250918T124018Z
UID:297620-1760778000-1760778000@bozone.com
SUMMARY:National Fossil Day Celebration
DESCRIPTION:Saturday\, October 18\, 2025\nat 9am – 4pm \nJoin Museum of the Rockies as we celebrate National Fossil Day! Explore the Siebel Dinosaur Complex as our Exhibitions and Paleontology Departments will have special booths throughout the exhibition hall and engage with our fossil preparators in the Bowman Viewing Lab for Q&A sessions. Be sure to attend our talks in the Hager Auditorium from paleoartist Jennifer Hall and John R. Horner Curator of Paleontology\, Dr. John Scannella. Come celebrate paleontology with us at Museum of the Rockies! \nTalk Schedule\n11 a.m. | Jennifer Hall\, will present on her career as an artist and how she made the artwork for the Montana Dinosaur Trail Posters.\n1 p.m. | Dr. John Scannella\, will present on MOR’s successful 12-week field season\, which took our paleo team all over the State and over 70 million years of geologic time. \nSiebel Dinosaur Complex & Hager Auditorium\nIncluded with membership/admission
URL:https://bozone.com/event/national-fossil-day-celebration/
LOCATION:Museum of the Rockies\, 600 W Kagy Blvd\, Bozeman\, MT\, 59718\, United States
CATEGORIES:Lectures
GEO:46.8796822;-110.3625658
X-APPLE-STRUCTURED-LOCATION;VALUE=URI;X-ADDRESS=Museum of the Rockies 600 W Kagy Blvd Bozeman MT 59718 United States;X-APPLE-RADIUS=500;X-TITLE=600 W Kagy Blvd:geo:-110.3625658,46.8796822
END:VEVENT
END:VCALENDAR