BEGIN:VCALENDAR
VERSION:2.0
PRODID:-//The BoZone - ECPv5.12.0//NONSGML v1.0//EN
CALSCALE:GREGORIAN
METHOD:PUBLISH
X-WR-CALNAME:The BoZone
X-ORIGINAL-URL:https://bozone.com
X-WR-CALDESC:Events for The BoZone
BEGIN:VTIMEZONE
TZID:America/Denver
BEGIN:DAYLIGHT
TZOFFSETFROM:-0700
TZOFFSETTO:-0600
TZNAME:MDT
DTSTART:20250309T090000
END:DAYLIGHT
BEGIN:STANDARD
TZOFFSETFROM:-0600
TZOFFSETTO:-0700
TZNAME:MST
DTSTART:20251102T080000
END:STANDARD
END:VTIMEZONE
BEGIN:VEVENT
DTSTART;TZID=America/Denver:20250817T180000
DTEND;TZID=America/Denver:20250817T180000
DTSTAMP:20260422T171818
CREATED:20250719T020145Z
LAST-MODIFIED:20250719T020145Z
UID:293831-1755453600-1755453600@bozone.com
SUMMARY:Music on the Green: Hornbread
DESCRIPTION:Join us for a lively concert on the front lawn of the library this summer! This fun\, family friendly event is a perfect way to spend a Sunday evening. Don’t forget your chairs\, blankets\, and dancing shoes. All ages welcome. Presenting Sponsor: Valley Credit Union\nHornbread is an eight-piece ska band formed in 2022 and based in Bozeman.
URL:https://bozone.com/event/music-on-the-green-hornbread/
LOCATION:Bozeman Public Library\, 626 East Main Street\, Bozeman\, MT\, 59715\, United States
CATEGORIES:Music
GEO:45.6785823;-111.0270991
X-APPLE-STRUCTURED-LOCATION;VALUE=URI;X-ADDRESS=Bozeman Public Library 626 East Main Street Bozeman MT 59715 United States;X-APPLE-RADIUS=500;X-TITLE=626 East Main Street:geo:-111.0270991,45.6785823
END:VEVENT
END:VCALENDAR