BEGIN:VCALENDAR
VERSION:2.0
PRODID:-//The BoZone - ECPv5.12.0//NONSGML v1.0//EN
CALSCALE:GREGORIAN
METHOD:PUBLISH
X-WR-CALNAME:The BoZone
X-ORIGINAL-URL:https://bozone.com
X-WR-CALDESC:Events for The BoZone
BEGIN:VTIMEZONE
TZID:America/Denver
BEGIN:DAYLIGHT
TZOFFSETFROM:-0700
TZOFFSETTO:-0600
TZNAME:MDT
DTSTART:20260308T090000
END:DAYLIGHT
BEGIN:STANDARD
TZOFFSETFROM:-0600
TZOFFSETTO:-0700
TZNAME:MST
DTSTART:20261101T080000
END:STANDARD
END:VTIMEZONE
BEGIN:VEVENT
DTSTART;TZID=America/Denver:20260808T170000
DTEND;TZID=America/Denver:20260808T170000
DTSTAMP:20260421T062709
CREATED:20260228T013538Z
LAST-MODIFIED:20260228T013538Z
UID:312636-1786208400-1786208400@bozone.com
SUMMARY:Music: Luna Worldcast
DESCRIPTION:Join us for free live music at WildRye Distilling.Luna Worldcast is a full-time touring musician bringing her soulful sound to audiences across the country. Over the past two years\, Luna has traveled coast to coast\, performing in 34 states and logging more than 50\,000 miles on the road. An official Breedlove Guitars artist\, she blends heartfelt songwriting with captivating live performances shaped by her extensive touring experience. Follow along with her current U.S. tour and discover more at Luna Worldcast online and on social media. 🎶✨
URL:https://bozone.com/event/music-luna-worldcast/
LOCATION:WildRye Distilling\, 101 E Oak St Suite 1E\, Bozeman\, MT\, 59715\, United States
CATEGORIES:Music
GEO:45.6929833;-111.0340753
X-APPLE-STRUCTURED-LOCATION;VALUE=URI;X-ADDRESS=WildRye Distilling 101 E Oak St Suite 1E Bozeman MT 59715 United States;X-APPLE-RADIUS=500;X-TITLE=101 E Oak St Suite 1E:geo:-111.0340753,45.6929833
END:VEVENT
END:VCALENDAR