BEGIN:VCALENDAR
VERSION:2.0
PRODID:-//The BoZone - ECPv5.12.0//NONSGML v1.0//EN
CALSCALE:GREGORIAN
METHOD:PUBLISH
X-WR-CALNAME:The BoZone
X-ORIGINAL-URL:https://bozone.com
X-WR-CALDESC:Events for The BoZone
BEGIN:VTIMEZONE
TZID:America/Denver
BEGIN:DAYLIGHT
TZOFFSETFROM:-0700
TZOFFSETTO:-0600
TZNAME:MDT
DTSTART:20250309T090000
END:DAYLIGHT
BEGIN:STANDARD
TZOFFSETFROM:-0600
TZOFFSETTO:-0700
TZNAME:MST
DTSTART:20251102T080000
END:STANDARD
END:VTIMEZONE
BEGIN:VEVENT
DTSTART;TZID=America/Denver:20251207T100000
DTEND;TZID=America/Denver:20251207T170000
DTSTAMP:20260420T005636
CREATED:20251111T175344Z
LAST-MODIFIED:20251111T175344Z
UID:302026-1765101600-1765126800@bozone.com
SUMMARY:Museum Store Member Appreciation Days
DESCRIPTION:Museum Store Member Appreciation Days \nSaturday and Sunday\, December 6 and 7\, 2025 \n10 a.m. – 5 p.m. \nMuseum members are invited to Museum Store Member Appreciation Days\, a special weekend featuring fabulous in-store specials such as: \n20% off all Merchandise\n40% off Peyote Bird jewelry (discount does not stack)\nRocky Rex Hidden Sticker Contest\nThe one daily winning member will receive a prize.\nRocky Rex Coloring Contest by age groups (0-2\, 3-5\, 6-8\, 9+)\nOne winner per age group will receive a plush Rocky Rex.\nExtra Sales Area (discounts do not stack)\nComplimentary Drip Coffee on Saturday to celebrate the café’s grand opening\nComplimentary Hot Cocoa and a Candy Cane on Sunday to celebrate the café’s grand opening\nFor Everyone \n40% off Peyote Bird jewelry\nExtra Sales Area\nComplimentary Drip Coffee on Saturday to celebrate the café’s grand opening\nComplimentary Hot Cocoa and a Candy Cane on Sunday to celebrate the café’s grand opening
URL:https://bozone.com/event/museum-store-member-appreciation-days-2/
LOCATION:Museum of the Rockies\, 600 W Kagy Blvd\, Bozeman\, MT\, 59718\, United States
CATEGORIES:Miscellanea
GEO:46.8796822;-110.3625658
X-APPLE-STRUCTURED-LOCATION;VALUE=URI;X-ADDRESS=Museum of the Rockies 600 W Kagy Blvd Bozeman MT 59718 United States;X-APPLE-RADIUS=500;X-TITLE=600 W Kagy Blvd:geo:-110.3625658,46.8796822
END:VEVENT
END:VCALENDAR