BEGIN:VCALENDAR
VERSION:2.0
PRODID:-//The BoZone - ECPv5.12.0//NONSGML v1.0//EN
CALSCALE:GREGORIAN
METHOD:PUBLISH
X-WR-CALNAME:The BoZone
X-ORIGINAL-URL:https://bozone.com
X-WR-CALDESC:Events for The BoZone
BEGIN:VTIMEZONE
TZID:America/Denver
BEGIN:DAYLIGHT
TZOFFSETFROM:-0700
TZOFFSETTO:-0600
TZNAME:MDT
DTSTART:20260308T090000
END:DAYLIGHT
BEGIN:STANDARD
TZOFFSETFROM:-0600
TZOFFSETTO:-0700
TZNAME:MST
DTSTART:20261101T080000
END:STANDARD
END:VTIMEZONE
BEGIN:VEVENT
DTSTART;TZID=America/Denver:20260130T173000
DTEND;TZID=America/Denver:20260130T173000
DTSTAMP:20260422T003421
CREATED:20251227T030415Z
LAST-MODIFIED:20251227T030415Z
UID:303729-1769794200-1769794200@bozone.com
SUMMARY:MoR Members: Cosmos and Cookies
DESCRIPTION:Friday\, January 30\n5:30 – 7 p.m.\nJoin us for Cosmos and Cookies\, a family-friendly event for MOR members that celebrates the wonders of the cosmos in the Taylor Planetarium.  Be among the first to watch our new planetarium show\, Dark Biosphere. \nThis film presents ground-breaking discoveries of the astonishing biodiversity found in extreme environments deep beneath the earth’s crust and\, in doing so\, challenges us to rethink both the origin of life on Earth and its possible existence throughout the Universe. \nSchedule\n5:30 p.m. | Enjoy cookies and meet other MOR members and member families\n5:45 p.m. | Planetarium Show Dark Biosphere\n6:10 p.m. | Cookie Break\n6:25 p.m. | Bonus Director’s cut: Stars Around the World \nAll Ages/Family Friendly\nBair Lobby and Taylor Planetarium\nFor MOR members only\nFor more information: https://museumoftherockies.org/calendar/cosmos-cookies-2
URL:https://bozone.com/event/mor-members-cosmos-and-cookies/
LOCATION:Museum of the Rockies\, 600 W Kagy Blvd\, Bozeman\, MT\, 59718\, United States
CATEGORIES:Miscellanea
GEO:46.8796822;-110.3625658
X-APPLE-STRUCTURED-LOCATION;VALUE=URI;X-ADDRESS=Museum of the Rockies 600 W Kagy Blvd Bozeman MT 59718 United States;X-APPLE-RADIUS=500;X-TITLE=600 W Kagy Blvd:geo:-110.3625658,46.8796822
END:VEVENT
END:VCALENDAR