BEGIN:VCALENDAR
VERSION:2.0
PRODID:-//The BoZone - ECPv5.12.0//NONSGML v1.0//EN
CALSCALE:GREGORIAN
METHOD:PUBLISH
X-WR-CALNAME:The BoZone
X-ORIGINAL-URL:https://bozone.com
X-WR-CALDESC:Events for The BoZone
BEGIN:VTIMEZONE
TZID:America/Denver
BEGIN:DAYLIGHT
TZOFFSETFROM:-0700
TZOFFSETTO:-0600
TZNAME:MDT
DTSTART:20260308T090000
END:DAYLIGHT
BEGIN:STANDARD
TZOFFSETFROM:-0600
TZOFFSETTO:-0700
TZNAME:MST
DTSTART:20261101T080000
END:STANDARD
END:VTIMEZONE
BEGIN:VEVENT
DTSTART;TZID=America/Denver:20260105T173000
DTEND;TZID=America/Denver:20260105T173000
DTSTAMP:20260421T123035
CREATED:20251230T005900Z
LAST-MODIFIED:20251231T194425Z
UID:304998-1767634200-1767634200@bozone.com
SUMMARY:Montana State vs Illinois State on ESPN
DESCRIPTION:Game time between Montana State and Illinois State is 5:30 p.m. MST on Monday\, Jan. 5.\nIt will air on ESPN \nFirstBank Stadium – Vanderbilt University\n2601 Jess Neely Dr\, Nashville\, TN 37212 \nHow to Watch: ‘Cats play for national title in Nashville 01/05/2026
URL:https://bozone.com/event/montana-state-vs-illinois-state-on-espn/
LOCATION:FirstBank Stadium – Vanderbilt University\, 2601 Jess Neely Dr\, Nashville\, TN\, 37212
CATEGORIES:Sporting Events
END:VEVENT
END:VCALENDAR