BEGIN:VCALENDAR
VERSION:2.0
PRODID:-//The BoZone - ECPv5.12.0//NONSGML v1.0//EN
CALSCALE:GREGORIAN
METHOD:PUBLISH
X-WR-CALNAME:The BoZone
X-ORIGINAL-URL:https://bozone.com
X-WR-CALDESC:Events for The BoZone
BEGIN:VTIMEZONE
TZID:America/Denver
BEGIN:DAYLIGHT
TZOFFSETFROM:-0700
TZOFFSETTO:-0600
TZNAME:MDT
DTSTART:20260308T090000
END:DAYLIGHT
BEGIN:STANDARD
TZOFFSETFROM:-0600
TZOFFSETTO:-0700
TZNAME:MST
DTSTART:20261101T080000
END:STANDARD
END:VTIMEZONE
BEGIN:VEVENT
DTSTART;TZID=America/Denver:20260130T193000
DTEND;TZID=America/Denver:20260130T193000
DTSTAMP:20260422T213806
CREATED:20260126T045642Z
LAST-MODIFIED:20260126T045642Z
UID:305942-1769801400-1769801400@bozone.com
SUMMARY:Montana Chamber Music Presents - Xavier Foley
DESCRIPTION:Communicating his virtuosity and passion for music on the double bass – rare for it to be presented as a solo instrument\, Xavier is the winner of a prestigious 2018 Avery Fisher Career Grant\, recognized on New York WQXR’s “19 for 19” Artists to Watch list\, and featured on PBS Thirteen’s NYC-ARTs.
URL:https://bozone.com/event/montana-chamber-music-presents-xavier-foley/
LOCATION:MSU Reynolds Recital Hall\, Bozeman\, United States
CATEGORIES:Music
GEO:45.6769979;-111.0429339
END:VEVENT
END:VCALENDAR