BEGIN:VCALENDAR
VERSION:2.0
PRODID:-//The BoZone - ECPv5.12.0//NONSGML v1.0//EN
CALSCALE:GREGORIAN
METHOD:PUBLISH
X-WR-CALNAME:The BoZone
X-ORIGINAL-URL:https://bozone.com
X-WR-CALDESC:Events for The BoZone
BEGIN:VTIMEZONE
TZID:America/Denver
BEGIN:DAYLIGHT
TZOFFSETFROM:-0700
TZOFFSETTO:-0600
TZNAME:MDT
DTSTART:20260308T090000
END:DAYLIGHT
BEGIN:STANDARD
TZOFFSETFROM:-0600
TZOFFSETTO:-0700
TZNAME:MST
DTSTART:20261101T080000
END:STANDARD
END:VTIMEZONE
BEGIN:VEVENT
DTSTART;TZID=America/Denver:20260418T130000
DTEND;TZID=America/Denver:20260418T130000
DTSTAMP:20260420T152902
CREATED:20260412T025928Z
LAST-MODIFIED:20260412T025928Z
UID:315671-1776517200-1776517200@bozone.com
SUMMARY:Mixed Super Duper
DESCRIPTION:Fixed Partner Mixed Doubles Round RobinDUPR divisions: 2.99 & below\, 3.0–3.49\, 3.5–3.99 \nPlay multiple games against a variety of opponents in a fun\, fast-paced format (up to 7 games). Scores will be entered into DUPR. \nPlease download the Swish app\, create an account\, and link your DUPR ID prior to play. A Picklr account is also required. \nTime: 1–3 PM & 3–5 PM\nCost: $30 non-members\nFree for members
URL:https://bozone.com/event/mixed-super-duper/
LOCATION:The Picklr Bozeman\, 225 Laura Louise Ln\, Bozeman\, MT\, 59718\, United States
CATEGORIES:Sporting Events
END:VEVENT
END:VCALENDAR