BEGIN:VCALENDAR
VERSION:2.0
PRODID:-//The BoZone - ECPv5.12.0//NONSGML v1.0//EN
CALSCALE:GREGORIAN
METHOD:PUBLISH
X-WR-CALNAME:The BoZone
X-ORIGINAL-URL:https://bozone.com
X-WR-CALDESC:Events for The BoZone
BEGIN:VTIMEZONE
TZID:America/Denver
BEGIN:DAYLIGHT
TZOFFSETFROM:-0700
TZOFFSETTO:-0600
TZNAME:MDT
DTSTART:20250309T090000
END:DAYLIGHT
BEGIN:STANDARD
TZOFFSETFROM:-0600
TZOFFSETTO:-0700
TZNAME:MST
DTSTART:20251102T080000
END:STANDARD
END:VTIMEZONE
BEGIN:VEVENT
DTSTART;TZID=America/Denver:20251114T173000
DTEND;TZID=America/Denver:20251114T173000
DTSTAMP:20260421T111853
CREATED:20251025T205820Z
LAST-MODIFIED:20251025T205820Z
UID:300379-1763141400-1763141400@bozone.com
SUMMARY:Miniature Art Auction with Bozeman Art Museum
DESCRIPTION:The Miniature Art Auction is free to attend and our biggest fundraiser of the year for Bozeman Art Museum. Help support keeping our classes free for our partnering elementary schools and expand our exhibits by bidding on some miniature masterpieces. Work by Kevin Red Star\, William Haskell\, Nic Fischer\, and many more BAM artists will be available for purchase. Also see the full catalog online at bozemanartmuseum.org by November 10th.
URL:https://bozone.com/event/miniature-art-auction-with-bozeman-art-museum/
LOCATION:Hotel Baxter\, 105 W Main\, Bozeman\, MT\, 59715\, United States
CATEGORIES:Arts & Theatre
GEO:45.6796175;-111.0390235
X-APPLE-STRUCTURED-LOCATION;VALUE=URI;X-ADDRESS=Hotel Baxter 105 W Main Bozeman MT 59715 United States;X-APPLE-RADIUS=500;X-TITLE=105 W Main:geo:-111.0390235,45.6796175
END:VEVENT
END:VCALENDAR