BEGIN:VCALENDAR
VERSION:2.0
PRODID:-//The BoZone - ECPv5.12.0//NONSGML v1.0//EN
CALSCALE:GREGORIAN
METHOD:PUBLISH
X-WR-CALNAME:The BoZone
X-ORIGINAL-URL:https://bozone.com
X-WR-CALDESC:Events for The BoZone
BEGIN:VTIMEZONE
TZID:America/Denver
BEGIN:DAYLIGHT
TZOFFSETFROM:-0700
TZOFFSETTO:-0600
TZNAME:MDT
DTSTART:20250309T090000
END:DAYLIGHT
BEGIN:STANDARD
TZOFFSETFROM:-0600
TZOFFSETTO:-0700
TZNAME:MST
DTSTART:20251102T080000
END:STANDARD
END:VTIMEZONE
BEGIN:VEVENT
DTSTART;TZID=America/Denver:20250801T120000
DTEND;TZID=America/Denver:20250801T235900
DTSTAMP:20260422T010930
CREATED:20250730T010404Z
LAST-MODIFIED:20250730T010404Z
UID:294796-1754049600-1754092740@bozone.com
SUMMARY:Mercier Ranch Old-time Music Jam
DESCRIPTION:3 days of Old-Time\, County\, Bluegrass\, and Americana Music in the beautiful Paradise Valley of Montana. Join us August 1-3\, 2025\, at the Mercier Ranch\, 1 mile south of Livingston\, Montana \nGrab your fiddle\, add a guitar and a banjo or two\, and you have all it takes to make some of the best music anywhere. On Friday\, August 1st through Sunday\, August 3rd at the Mercier Ranch\, south of Livingston on U.S. Hwy. 89 South. The music starts playing at around noon on Friday. It continues into the wee hours of the morning until the last of the musicians are too tired to play. On Saturday at noon\, the potluck/barbeque is sure to please. On Sunday\, they start off with a morning gospel jam\, followed by a pancake breakfast at 9 am. The event tapers off around 2 pm on Sunday. \nThe Montana Old-Time Fiddler’s Picnic is an annual event put on by musicians and for musicians in celebration of the fiddle\, bluegrass\, western swing\, country\, and folk music that we all love. This 3-day event is organized in an informal\, jam format\, meaning there’s no schedule of performances or musical events. It’s all impromptu and spontaneous! And you will find some of the best fiddlers\, banjo pickers\, and guitar players from all around the country who gather for nonstop music\, camping\, food and fun. Camping is available on-site\, but spots are on a first-come-first-serve basis. No water is available\, so bring your own supply. Porta-potties are provided.
URL:https://bozone.com/event/mercier-ranch-old-time-music-jam/
LOCATION:Mercier Ranch\, 5230 US HWY 89 South\, Livingston\, MT\, 59047\, United States
CATEGORIES:Miscellanea,Music
GEO:45.3966121;-110.7083622
X-APPLE-STRUCTURED-LOCATION;VALUE=URI;X-ADDRESS=Mercier Ranch 5230 US HWY 89 South Livingston MT 59047 United States;X-APPLE-RADIUS=500;X-TITLE=5230 US HWY 89 South:geo:-110.7083622,45.3966121
END:VEVENT
END:VCALENDAR