BEGIN:VCALENDAR
VERSION:2.0
PRODID:-//The BoZone - ECPv5.12.0//NONSGML v1.0//EN
CALSCALE:GREGORIAN
METHOD:PUBLISH
X-WR-CALNAME:The BoZone
X-ORIGINAL-URL:https://bozone.com
X-WR-CALDESC:Events for The BoZone
BEGIN:VTIMEZONE
TZID:America/Denver
BEGIN:DAYLIGHT
TZOFFSETFROM:-0700
TZOFFSETTO:-0600
TZNAME:MDT
DTSTART:20250309T090000
END:DAYLIGHT
BEGIN:STANDARD
TZOFFSETFROM:-0600
TZOFFSETTO:-0700
TZNAME:MST
DTSTART:20251102T080000
END:STANDARD
END:VTIMEZONE
BEGIN:VEVENT
DTSTART;TZID=America/Denver:20250710T200000
DTEND;TZID=America/Denver:20250710T200000
DTSTAMP:20260421T123033
CREATED:20250428T210520Z
LAST-MODIFIED:20250620T180421Z
UID:289025-1752177600-1752177600@bozone.com
SUMMARY:Matt Heckler with Joe's Truck Stop and Drew McDowell
DESCRIPTION:Thu Jul 10th @8:00pm\n\nMatt Heckler with Joe’s Truck Stop\nhttps://events.sellout.io/Matt-Heckler
URL:https://bozone.com/event/matt-heckler-with-joes-truck-stop/
LOCATION:The Filling Station\, 2005 N. Rouse Avenue\, Bozeman\, United States
CATEGORIES:Music
GEO:45.6988202;-111.0319631
X-APPLE-STRUCTURED-LOCATION;VALUE=URI;X-ADDRESS=The Filling Station 2005 N. Rouse Avenue Bozeman United States;X-APPLE-RADIUS=500;X-TITLE=2005 N. Rouse Avenue:geo:-111.0319631,45.6988202
END:VEVENT
END:VCALENDAR