BEGIN:VCALENDAR
VERSION:2.0
PRODID:-//The BoZone - ECPv5.12.0//NONSGML v1.0//EN
CALSCALE:GREGORIAN
METHOD:PUBLISH
X-WR-CALNAME:The BoZone
X-ORIGINAL-URL:https://bozone.com
X-WR-CALDESC:Events for The BoZone
BEGIN:VTIMEZONE
TZID:America/Denver
BEGIN:DAYLIGHT
TZOFFSETFROM:-0700
TZOFFSETTO:-0600
TZNAME:MDT
DTSTART:20260308T090000
END:DAYLIGHT
BEGIN:STANDARD
TZOFFSETFROM:-0600
TZOFFSETTO:-0700
TZNAME:MST
DTSTART:20261101T080000
END:STANDARD
END:VTIMEZONE
BEGIN:VEVENT
DTSTART;TZID=America/Denver:20260203T193000
DTEND;TZID=America/Denver:20260203T193000
DTSTAMP:20260422T082129
CREATED:20260131T015546Z
LAST-MODIFIED:20260131T015546Z
UID:307690-1770147000-1770147000@bozone.com
SUMMARY:Master Class: Ashley Hall & Nathan Tighe\, brass
DESCRIPTION:February 3\, 2026\n\n\nMaster Class: Ashley Hall & Nathan Tighe\, brass\n 7:30pm\n Howard Hall Reynolds Recital Hall\nFree & Open to the Public!
URL:https://bozone.com/event/master-class-ashley-hall-nathan-tighe-brass/
LOCATION:MSU Reynolds Recital Hall\, Bozeman\, United States
CATEGORIES:Music
GEO:45.6769979;-111.0429339
END:VEVENT
END:VCALENDAR