BEGIN:VCALENDAR
VERSION:2.0
PRODID:-//The BoZone - ECPv5.12.0//NONSGML v1.0//EN
CALSCALE:GREGORIAN
METHOD:PUBLISH
X-WR-CALNAME:The BoZone
X-ORIGINAL-URL:https://bozone.com
X-WR-CALDESC:Events for The BoZone
BEGIN:VTIMEZONE
TZID:America/Denver
BEGIN:DAYLIGHT
TZOFFSETFROM:-0700
TZOFFSETTO:-0600
TZNAME:MDT
DTSTART:20250309T090000
END:DAYLIGHT
BEGIN:STANDARD
TZOFFSETFROM:-0600
TZOFFSETTO:-0700
TZNAME:MST
DTSTART:20251102T080000
END:STANDARD
END:VTIMEZONE
BEGIN:VEVENT
DTSTART;TZID=America/Denver:20251213T090000
DTEND;TZID=America/Denver:20251213T090000
DTSTAMP:20260421T171814
CREATED:20251114T214521Z
LAST-MODIFIED:20251114T214521Z
UID:302079-1765616400-1765616400@bozone.com
SUMMARY:Mahasangha Half Day Retreat
DESCRIPTION:Join leaders and members of all sanghas that meet at the BDC in this mahasangha half-day retreat! Group leaders will offer practices from our various lineages along with meditation\, chanting\, bowing\, and readings.\nCome early or stick around afterward for a book and sundries sale!\nSaturday December 13 from 9 AM to Noon at\nThe Bozeman Center\n3810 Valley Commons #6.\nRegister at bozemandharmacenter.org. (406) 219-2140
URL:https://bozone.com/event/mahasangha-half-day-retreat-2/
LOCATION:Bozeman Dharma Center\, 1019 E Main\, Bozeman\, MT\, 59715\, United States
CATEGORIES:Classes,Miscellanea
GEO:45.6803554;-111.0229517
X-APPLE-STRUCTURED-LOCATION;VALUE=URI;X-ADDRESS=Bozeman Dharma Center 1019 E Main Bozeman MT 59715 United States;X-APPLE-RADIUS=500;X-TITLE=1019 E Main:geo:-111.0229517,45.6803554
END:VEVENT
END:VCALENDAR