BEGIN:VCALENDAR
VERSION:2.0
PRODID:-//The BoZone - ECPv5.12.0//NONSGML v1.0//EN
CALSCALE:GREGORIAN
METHOD:PUBLISH
X-WR-CALNAME:The BoZone
X-ORIGINAL-URL:https://bozone.com
X-WR-CALDESC:Events for The BoZone
BEGIN:VTIMEZONE
TZID:America/Denver
BEGIN:DAYLIGHT
TZOFFSETFROM:-0700
TZOFFSETTO:-0600
TZNAME:MDT
DTSTART:20250309T090000
END:DAYLIGHT
BEGIN:STANDARD
TZOFFSETFROM:-0600
TZOFFSETTO:-0700
TZNAME:MST
DTSTART:20251102T080000
END:STANDARD
END:VTIMEZONE
BEGIN:VEVENT
DTSTART;TZID=America/Denver:20251219T200000
DTEND;TZID=America/Denver:20251219T200000
DTSTAMP:20260422T075332
CREATED:20251124T131157Z
LAST-MODIFIED:20251124T131157Z
UID:302233-1766174400-1766174400@bozone.com
SUMMARY:Longhorn
DESCRIPTION:Helena’s own Longhorn is stampeding into The Jump with a powerhouse blend of country grit and unstoppable good-time energy. These Montana boys bring the kind of boot-stompin’ groove that turns any room into a Friday-night rodeo. Saddle up and join us Friday from 8-11 PM for a night of pure Western fire with Longhorn!
URL:https://bozone.com/event/longhorn/
LOCATION:The Jump\, 75770 Gallatin Rd\, Gallatin Gateway\, MT\, 59730\, United States
CATEGORIES:Music
GEO:45.58333;-111.1969895
X-APPLE-STRUCTURED-LOCATION;VALUE=URI;X-ADDRESS=The Jump 75770 Gallatin Rd Gallatin Gateway MT 59730 United States;X-APPLE-RADIUS=500;X-TITLE=75770 Gallatin Rd:geo:-111.1969895,45.58333
END:VEVENT
END:VCALENDAR