BEGIN:VCALENDAR
VERSION:2.0
PRODID:-//The BoZone - ECPv5.12.0//NONSGML v1.0//EN
CALSCALE:GREGORIAN
METHOD:PUBLISH
X-WR-CALNAME:The BoZone
X-ORIGINAL-URL:https://bozone.com
X-WR-CALDESC:Events for The BoZone
BEGIN:VTIMEZONE
TZID:America/Denver
BEGIN:DAYLIGHT
TZOFFSETFROM:-0700
TZOFFSETTO:-0600
TZNAME:MDT
DTSTART:20250309T090000
END:DAYLIGHT
BEGIN:STANDARD
TZOFFSETFROM:-0600
TZOFFSETTO:-0700
TZNAME:MST
DTSTART:20251102T080000
END:STANDARD
END:VTIMEZONE
BEGIN:VEVENT
DTSTART;TZID=America/Denver:20250828T200000
DTEND;TZID=America/Denver:20250828T200000
DTSTAMP:20260420T142337
CREATED:20250825T143320Z
LAST-MODIFIED:20250825T143320Z
UID:296254-1756411200-1756411200@bozone.com
SUMMARY:Line Dancing with Western Roots
DESCRIPTION:Line Dancing with Western Roots\n8:00 pm – 11:00 pm \n$10 Line dance lessons starting at 8pm! Food and drink specials! Party with us till the music stops! \nBourbon
URL:https://bozone.com/event/line-dancing-with-western-roots-8/
CATEGORIES:Music
END:VEVENT
END:VCALENDAR