BEGIN:VCALENDAR
VERSION:2.0
PRODID:-//The BoZone - ECPv5.12.0//NONSGML v1.0//EN
CALSCALE:GREGORIAN
METHOD:PUBLISH
X-WR-CALNAME:The BoZone
X-ORIGINAL-URL:https://bozone.com
X-WR-CALDESC:Events for The BoZone
BEGIN:VTIMEZONE
TZID:America/Denver
BEGIN:DAYLIGHT
TZOFFSETFROM:-0700
TZOFFSETTO:-0600
TZNAME:MDT
DTSTART:20260308T090000
END:DAYLIGHT
BEGIN:STANDARD
TZOFFSETFROM:-0600
TZOFFSETTO:-0700
TZNAME:MST
DTSTART:20261101T080000
END:STANDARD
END:VTIMEZONE
BEGIN:VEVENT
DTSTART;TZID=America/Denver:20260108T190000
DTEND;TZID=America/Denver:20260108T190000
DTSTAMP:20260421T112054
CREATED:20251227T235756Z
LAST-MODIFIED:20251227T235756Z
UID:303935-1767898800-1767898800@bozone.com
SUMMARY:LFS screening the Montana film THE TINDERBOX
DESCRIPTION:Thursday\, January 8 at 7 pm screening the Montana film THE TINDERBOX\, and\nwe wanted to keep you in the know! \nBased on the fairytale by Hans Christian Andersen\, THE TINDERBOX is a\ncomedy set in modern day Butte\, America\, the most Irish City outside of\nIreland.
URL:https://bozone.com/event/lfs-screening-the-montana-film-the-tinderbox/
LOCATION:Shane Lalani Center for the Arts – Livingston\, 415 E. Lewis St.\, Livingston\, MT\, 59047\, United States
CATEGORIES:Movies
GEO:45.6628503;-110.5552274
X-APPLE-STRUCTURED-LOCATION;VALUE=URI;X-ADDRESS=Shane Lalani Center for the Arts – Livingston 415 E. Lewis St. Livingston MT 59047 United States;X-APPLE-RADIUS=500;X-TITLE=415 E. Lewis St.:geo:-110.5552274,45.6628503
END:VEVENT
END:VCALENDAR