BEGIN:VCALENDAR
VERSION:2.0
PRODID:-//The BoZone - ECPv5.12.0//NONSGML v1.0//EN
CALSCALE:GREGORIAN
METHOD:PUBLISH
X-WR-CALNAME:The BoZone
X-ORIGINAL-URL:https://bozone.com
X-WR-CALDESC:Events for The BoZone
BEGIN:VTIMEZONE
TZID:America/Denver
BEGIN:DAYLIGHT
TZOFFSETFROM:-0700
TZOFFSETTO:-0600
TZNAME:MDT
DTSTART:20250309T090000
END:DAYLIGHT
BEGIN:STANDARD
TZOFFSETFROM:-0600
TZOFFSETTO:-0700
TZNAME:MST
DTSTART:20251102T080000
END:STANDARD
END:VTIMEZONE
BEGIN:VEVENT
DTSTART;TZID=America/Denver:20251024T200000
DTEND;TZID=America/Denver:20251024T200000
DTSTAMP:20260421T163846
CREATED:20250825T233836Z
LAST-MODIFIED:20250825T233836Z
UID:296485-1761336000-1761336000@bozone.com
SUMMARY:Leaving a Mark - A Dark Comedy
DESCRIPTION:Leaving a Mark – A Dark Comedy\n\n\n\n\n\n \nLEAVING A MARK: A Comedy About Scars is a darkly funny\, solo tour de force\, written and performed by Ophira Eisenberg. You may know Eisenberg best from her nine years as host of the NPR hit trivia show Ask Me Another\, or her stand-up TV performances on The Late Late Show\, Gotham Live\, The Comedy Cellar\, and more. Other notable credits include appearances on HBO’s Girls\, The Today Show\, and as a regular host and storyteller on the ever-popular Moth Radio Hour. \nA Message from Ophira… \n \nMore about the show…\nRaw\, smart\, and occasionally wildly inappropriate (in the best way)\, LEAVING A MARK is a hilariously visceral\, deeply personal look at the scars – both literal and metaphorical – that shape us all. From childhood mishaps to near-fatal accidents\, botched first loves and a battle with a health crisis\, Ophira weaves together a survival tale that’s equal parts stand-up comedy and dynamic storytelling. This joyful celebration of imperfection is about resilience\, humor in the face of pain\, the messy/triumphant art of learning to love oneself\, and ultimately\, the absurdity of being human. \n“If laughter is the best medicine\, Eisenberg’s one-woman-show delivers in double-barrel doses.” \nThe New York Times – Critic’s Pick\nLEAVING A MARK: A Comedy About Scars\nDirected by Soren Kisel \nOff-Broadway Premiere SOLD OUT\, Soho Playhouse NYC\nWinner of Women in the Arts & Media Award for Solo Show Scripts \n\nMore about Ophira Eisenberg… \nWhen not contributing to The Moth\, Ophira engages in standup and storytelling in New York City as well as all across the country. In addition\, each week she chats with various creative people about the joys and chaos of raising kids on her hit comedy-parenting podcast “Parenting Is A Joke.” Her two comedy specials\, Inside Joke and Plant-Based Jokes are audience favorites and she is currently creating more jokes while preparing to film her third comedy special at The Comedy Cellar in NYC later this year. To learn even more\, and to see further usage of the word joke\, visit www.ophiraeisenberg.com and @ophirae \n\n\n\n\n\n\n\n\nMake Selection\n\n\n\n\n\n\nFriday\, October 24th at 8:00 PM
URL:https://bozone.com/event/leaving-a-mark-a-dark-comedy/
LOCATION:The Ellen Theatre\, 17 W Main\, Bozeman\, MT\, 59715\, United States
CATEGORIES:Arts & Theatre
GEO:45.6794524;-111.037852
X-APPLE-STRUCTURED-LOCATION;VALUE=URI;X-ADDRESS=The Ellen Theatre 17 W Main Bozeman MT 59715 United States;X-APPLE-RADIUS=500;X-TITLE=17 W Main:geo:-111.037852,45.6794524
END:VEVENT
END:VCALENDAR