BEGIN:VCALENDAR
VERSION:2.0
PRODID:-//The BoZone - ECPv5.12.0//NONSGML v1.0//EN
CALSCALE:GREGORIAN
METHOD:PUBLISH
X-WR-CALNAME:The BoZone
X-ORIGINAL-URL:https://bozone.com
X-WR-CALDESC:Events for The BoZone
BEGIN:VTIMEZONE
TZID:America/Denver
BEGIN:DAYLIGHT
TZOFFSETFROM:-0700
TZOFFSETTO:-0600
TZNAME:MDT
DTSTART:20250309T090000
END:DAYLIGHT
BEGIN:STANDARD
TZOFFSETFROM:-0600
TZOFFSETTO:-0700
TZNAME:MST
DTSTART:20251102T080000
END:STANDARD
END:VTIMEZONE
BEGIN:VEVENT
DTSTART;TZID=America/Denver:20251018T090000
DTEND;TZID=America/Denver:20251018T150000
DTSTAMP:20260420T043750
CREATED:20250925T025923Z
LAST-MODIFIED:20250925T025923Z
UID:297918-1760778000-1760799600@bozone.com
SUMMARY:KGLT's Record Fair & Music Swap
DESCRIPTION:KGLT’s Record Fair & Music Swap is Saturday\, October 18th in Rm 233/235 of the MSU Strand Union in Bozeman. It’s Southwest Montana’s only Vinyl Sale!! And there’ll be high-fi gear and guitars in addition to Records\, Cds\, and Tapes! Hosted by Friends of KGLT since 2011\, all proceeds go to KGLT-FM\, guardian of all-music and community information\, independent\, free-form\, college radio\, since 1968. That’s even more important now because of the absence of Federal Funding! $5 Early Bird Donation gets you in from 9 to 10am. Free entry from 10 to 3! Bring the kids! Think great presents to your friends and family! Free parking! KGLT Record Fair and Music Swap! Saturday\, October 18th at the MSU SUB! Info on Facebook at KGLT Alternative Public Radio!
URL:https://bozone.com/event/kglts-record-fair-music-swap/
LOCATION:MSU – SUB\, 751 W Grant St.\, Bozeman\, MT\, 59715\, United States
CATEGORIES:Miscellanea
GEO:45.6667557;-111.04981
X-APPLE-STRUCTURED-LOCATION;VALUE=URI;X-ADDRESS=MSU – SUB 751 W Grant St. Bozeman MT 59715 United States;X-APPLE-RADIUS=500;X-TITLE=751 W Grant St.:geo:-111.04981,45.6667557
END:VEVENT
END:VCALENDAR